BEGIN:VCALENDAR
VERSION:2.0
PRODID:-//ChamberMaster//Event Calendar 2.0//EN
METHOD:PUBLISH
X-PUBLISHED-TTL:P3D
REFRESH-INTERVAL:P3D
CALSCALE:GREGORIAN
BEGIN:VEVENT
DTSTART:20180624T000000Z
DTEND:20180624T020000Z
X-MICROSOFT-CDO-ALLDAYEVENT:FALSE
SUMMARY:Roomful of Blues
DESCRIPTION:Their winning combination of jump\, swing\, blues\, R&B and soul remains their calling card\, as does their ability to fill the dance floor. Along with newer members\, bassist John Turner\, trumpeter Doug Woolverton\, drummer Chris Rivelli\, and keyboardist Rusty Scott\, and longtime members baritone and tenor saxophonist Mark Earley\, tenor and alto saxophonist Rich Lataille \, Roomful keeps on rockin? in 2018.
X-ALT-DESC;FMTTYPE=text/html:Their winning combination of jump\, swing\, blues\, R&amp\;B and soul remains their calling card\, as does their ability to fill the dance floor. Along with newer members\, bassist John Turner\, trumpeter Doug Woolverton\, drummer Chris Rivelli\, and keyboardist Rusty Scott\, and longtime members baritone and tenor saxophonist Mark Earley\, tenor and alto saxophonist Rich Lataille \, Roomful keeps on rockin? in 2018.
LOCATION:Vinegar Hill Music Theatre 53 Old Post Rd. Arundel\, ME 04046
UID:e.1923.7161
SEQUENCE:3
DTSTAMP:20260425T143317Z
URL:https://chamber.gokennebunks.com/events/details/roomful-of-blues-7161
END:VEVENT

END:VCALENDAR
