BEGIN:VCALENDAR
VERSION:2.0
PRODID:-//ChamberMaster//Event Calendar 2.0//EN
METHOD:PUBLISH
X-PUBLISHED-TTL:P3D
REFRESH-INTERVAL:P3D
CALSCALE:GREGORIAN
BEGIN:VEVENT
DTSTART:20190720T000000Z
DTEND:20190720T023000Z
X-MICROSOFT-CDO-ALLDAYEVENT:FALSE
SUMMARY:Roomful of Blues
DESCRIPTION:"Swingin' jump blues and R&B...high-voltage yet classy"  USA TODAY For nearly half a century\, Roomful of Blues has been delivering its signature blend of swing\, rock 'n' roll\, jump\, blues and R&B to euphoric audiences all over the world. Blues Revue says\, "Roomful of Blues is a sheer joy...contagious\, finger-popping\, head-bopping grooves...the horns blast loud and proud...explosive and electrifying." The band has earned five Grammy Award nominations and a slew of other accolades\, including seven Blues Music Awards. Twice\, the prestigious DownBeat International Critics Poll has selected them as Best Blues Band. With their masterful combination of jumping\, horn-heavy blues and R&B\, it's no wonder why the great Count Basie called them "the hottest blues band I've ever heard." Billboard simply says\, "Roomful is so tight and so right." To commemorate and celebrate their 45th anniversary\, the band hosted a three-day party in March of 2013 at one of their favorite haunts\, The Ocean Mist\, in Matunuck\, Rhode Island. The band blew the doors off the packed club\, playing to roaring ovations each night. Happily\, the proceedings were recorded and the resulting album\, 45 Live\, is among Roomful of Blues' crowning achievements. The album is a lightning-in-a-bottle blowout\, showcasing the larger-than-life vocal and instrumental power of the band.
X-ALT-DESC;FMTTYPE=text/html:&quot\;Swingin&rsquo\; jump blues and R&amp\;B...high-voltage yet classy&quot\; &ndash\;USA TODAY For nearly half a century\, Roomful of Blues has been delivering its signature blend of swing\, rock &lsquo\;n&rsquo\; roll\, jump\, blues and R&amp\;B to euphoric audiences all over the world. Blues Revue says\, &ldquo\;Roomful of Blues is a sheer joy...contagious\, finger-popping\, head-bopping grooves...the horns blast loud and proud...explosive and electrifying.&rdquo\; The band has earned five Grammy Award nominations and a slew of other accolades\, including seven Blues Music Awards. Twice\, the prestigious DownBeat International Critics Poll has selected them as Best Blues Band. With their masterful combination of jumping\, horn-heavy blues and R&amp\;B\, it&rsquo\;s no wonder why the great Count Basie called them &ldquo\;the hottest blues band I&rsquo\;ve ever heard.&rdquo\; Billboard simply says\, &ldquo\;Roomful is so tight and so right.&rdquo\; To commemorate and celebrate their 45th anniversary\, the band hosted a three-day party in March of 2013 at one of their favorite haunts\, The Ocean Mist\, in Matunuck\, Rhode Island. The band blew the doors off the packed club\, playing to roaring ovations each night. Happily\, the proceedings were recorded and the resulting album\, 45 Live\, is among Roomful of Blues&rsquo\; crowning achievements. The album is a lightning-in-a-bottle blowout\, showcasing the larger-than-life vocal and instrumental power of the band.
LOCATION:Vinegar Hill Music Theatre 53 Old Post Rd Arundel\, ME 04046
UID:e.1923.13150
SEQUENCE:3
DTSTAMP:20260424T183427Z
URL:https://chamber.gokennebunks.com/events/details/roomful-of-blues-07-19-2019-13150
END:VEVENT

END:VCALENDAR
