BEGIN:VCALENDAR
VERSION:2.0
PRODID:-//ChamberMaster//Event Calendar 2.0//EN
METHOD:PUBLISH
X-PUBLISHED-TTL:P3D
REFRESH-INTERVAL:P3D
CALSCALE:GREGORIAN
BEGIN:VEVENT
DTSTART:20250504T000000Z
DTEND:20250504T020000Z
X-MICROSOFT-CDO-ALLDAYEVENT:FALSE
SUMMARY:Roomful of Blues
DESCRIPTION:Reserved Seated: $30 - $35 Advance | $40 - $45 Door\n\nDoors 7pm | Show 8pm\nCome early and enjoy food and drinks in our outdoor garden starting at 6PM!\n\nThe night's food truck is:  Maine Diner on the Go\n\n\n\nPraised by DownBeat magazine as "in a class by themselves" and hailed by Count Basie as "the hottest blues band I've ever heard\," Roomful of Blues has been a powerhouse in blues\, swing\, and R&B for over 55 years. Founded in 1967\, the band has earned five Grammy nominations\, seven Blues Music Awards\, and international acclaim\, performing in 22 countries and collaborating with legends like B.B. King\, Eric Clapton\, and Carlos Santana.\n\nLed by guitarist and producer Chris Vachon since 1998\, the current lineup includes vocalist D.D. Bastos\, saxophonist Rich Lataille (a member since 1970)\, keyboardist Jeff Ceasrine\, bassist John Turner\, drummer Mike Coffey\, trumpeter Carl "Geerz" Gerhard\, and saxophonist Alek Razdan. The band's distinctive horn-driven sound blends jump blues\, swing\, and soul\, filling dance floors and delighting audiences worldwide.\n\nRoomful's impressive discography includes six acclaimed albums on Alligator Records\, with In A Roomful of Blues (2020) being their latest. With energetic live shows and a commitment to keeping their music fresh\, Roomful of Blues continues to inspire fans old and new. Guitar Player calls Vachon's work "explosive\," while The New Yorker praises their "thunderous performances that get feet stomping and hands clapping."\n\n"We keep things fresh and fun\," says Vachon. "It's as exciting for us as it is for our fans."
X-ALT-DESC;FMTTYPE=text/html:<h4><strong>Reserved Seated: $30 - $35 Advance | $40 - $45 Door<br />\nDoors 7pm | Show 8pm</strong></h4>\nCome early and enjoy food and drinks in our outdoor garden starting at 6PM!<br />\nThe night&rsquo\;s food truck is:&nbsp\;&nbsp\;<a href="https://mainediner.com/" rel="noopener" style="background-color: transparent\; box-sizing: border-box\; color: rgb(195\, 89\, 51)\; text-decoration-line: none\; box-shadow: none\;" target="_blank">Maine Diner on the Go</a>\n\n<p><br />\nPraised by <em>DownBeat</em> magazine as &ldquo\;in a class by themselves&rdquo\; and hailed by Count Basie as &ldquo\;the hottest blues band I&rsquo\;ve ever heard\,&rdquo\; Roomful of Blues has been a powerhouse in blues\, swing\, and R&amp\;B for over 55 years. Founded in 1967\, the band has earned five Grammy nominations\, seven Blues Music Awards\, and international acclaim\, performing in 22 countries and collaborating with legends like B.B. King\, Eric Clapton\, and Carlos Santana.</p>\n\n<p>Led by guitarist and producer Chris Vachon since 1998\, the current lineup includes vocalist D.D. Bastos\, saxophonist Rich Lataille (a member since 1970)\, keyboardist Jeff Ceasrine\, bassist John Turner\, drummer Mike Coffey\, trumpeter Carl &ldquo\;Geerz&rdquo\; Gerhard\, and saxophonist Alek Razdan. The band&rsquo\;s distinctive horn-driven sound blends jump blues\, swing\, and soul\, filling dance floors and delighting audiences worldwide.</p>\n\n<p>Roomful&rsquo\;s impressive discography includes six acclaimed albums on Alligator Records\, with <em>In A Roomful of Blues</em> (2020) being their latest. With energetic live shows and a commitment to keeping their music fresh\, Roomful of Blues continues to inspire fans old and new. Guitar Player calls Vachon&rsquo\;s work &ldquo\;explosive\,&rdquo\; while <em>The New Yorker</em> praises their &ldquo\;thunderous performances that get feet stomping and hands clapping.&rdquo\;</p>\n\n<p>&quot\;We keep things fresh and fun\,&quot\; says Vachon. &quot\;It&#39\;s as exciting for us as it is for our fans.&quot\;</p>\n\n<p>&nbsp\;</p>\n\n<p>&nbsp\;</p>\n
LOCATION:Vinegar Hill Music Theatre 53 Old Post Road Arundel\, Maine 04046
UID:e.1923.34216
SEQUENCE:3
DTSTAMP:20260421T050119Z
URL:https://chamber.gokennebunks.com/events/details/roomful-of-blues-05-03-2025-34216
END:VEVENT

END:VCALENDAR
