BEGIN:VCALENDAR
VERSION:2.0
PRODID:-//ChamberMaster//Event Calendar 2.0//EN
METHOD:PUBLISH
X-PUBLISHED-TTL:P3D
REFRESH-INTERVAL:P3D
CALSCALE:GREGORIAN
BEGIN:VEVENT
DTSTART:20190721T223000Z
DTEND:20190722T003000Z
X-MICROSOFT-CDO-ALLDAYEVENT:FALSE
SUMMARY:Ronan Tynan
DESCRIPTION:Vinegar Hill's season is not complete without soloist and fan favorite Ronan Tynan\, an acclaimed Irish Tenor\, largely known for his versatile repertoire. He sang with the Irish Tenors for several years\, then started his solo career. Dr. Tynan has performed for four U.S. Presidents including President George H.W. Bush and President George W. Bush\, as single soloist at the Funeral of President Ronald Reagan\, and for President Clinton. As well\, Dr. Tynan has sung for two Popes\, Pope JohnPaul II at St. Peter's Basilica and Pope Benedict at the Concert of Hope. He is also known for performing "God Bless America".
X-ALT-DESC;FMTTYPE=text/html:Vinegar Hill&#39\;s season is not complete without soloist and fan favorite Ronan Tynan\, an acclaimed Irish Tenor\, largely known for his versatile repertoire. He sang with the Irish Tenors for several years\, then started his solo career. Dr. Tynan has performed for four U.S. Presidents including President George H.W. Bush and President George W. Bush\, as single soloist at the Funeral of President Ronald Reagan\, and for President Clinton. As well\, Dr. Tynan has sung for two Popes\, Pope JohnPaul II at St. Peter&rsquo\;s Basilica and Pope Benedict at the Concert of Hope. He is also known for performing &quot\;God Bless America&quot\;.
LOCATION:Vinegar Hill Music Theatre\, 53 Old Post Road\, Arundel
UID:e.1923.13113
SEQUENCE:3
DTSTAMP:20260424T194402Z
URL:https://chamber.gokennebunks.com/events/details/ronan-tynan-07-21-2019-13113
END:VEVENT

END:VCALENDAR
