BEGIN:VCALENDAR
VERSION:2.0
PRODID:-//ChamberMaster//Event Calendar 2.0//EN
METHOD:PUBLISH
X-PUBLISHED-TTL:P3D
REFRESH-INTERVAL:P3D
CALSCALE:GREGORIAN
BEGIN:VEVENT
DTSTART:20180920T213000Z
DTEND:20180920T230000Z
X-MICROSOFT-CDO-ALLDAYEVENT:FALSE
SUMMARY:Rogers Culture Series: "New England Gardens: Lost\, Found\, Rediscovered" with Lucinda Brockway\, Past Designs
DESCRIPTION:Come take a tour of New England through its historic gardens and landscapes with inspiration and ideas for revitalizing your own garden. \n\nLUCINDA A. BROCKWAY is Program Director for Cultural Resources at The Trustees\, a 127-year-old Massachusetts preservation and conservation organization that protects more than 100 properties and 26\,000 acres of cultural\, natural and scenic landscape. Brockway leads a team of archivists\, curators and horticulturists seeking innovative solutions for preserving and engaging gardens\, landscapes and historic houses. Prior to joining The Trustees\, Brockway ran her own landscape preservation consulting firm for 25 years in Kennebunk. She is the author of A Favorite Place of Resort for Strangers (2001)\, Gardens of the New Republic (2004) and has work featured in Old House Journal\, Victoria Magazine\, Colonial Homes\, Nineteenth Century and other publications.
X-ALT-DESC;FMTTYPE=text/html:<p>Come take a tour of New England through its historic gardens and landscapes with inspiration and ideas for revitalizing your own garden.&nbsp\;</p>\n\n<p>LUCINDA A. BROCKWAY is Program Director for Cultural Resources at The Trustees\, a 127-year-old Massachusetts preservation and conservation organization that protects more than 100 properties and 26\,000 acres of cultural\, natural and scenic landscape. Brockway leads a team of archivists\, curators and horticulturists seeking innovative solutions for preserving and engaging gardens\, landscapes and historic houses. Prior to joining The Trustees\, Brockway ran her own landscape preservation consulting firm for 25 years in Kennebunk. She is the author of <em>A Favorite Place of Resort for Strangers </em>(2001)\, <em>Gardens of the New Republic</em>&nbsp\;(2004) and has work featured in <em>Old House Journal</em>\, <em>Victoria Magazine</em>\, <em>Colonial Homes</em>\, <em>Nineteenth Century</em>&nbsp\;and other publications.</p>\n
LOCATION:Brick Store Museum 117 Main Street Kennebunk\, Maine\, 04043
UID:e.1923.11475
SEQUENCE:3
DTSTAMP:20260425T104449Z
URL:https://chamber.gokennebunks.com/events/details/rogers-culture-series-new-england-gardens-lost-found-rediscovered-with-lucinda-brockway-past-designs-11475
END:VEVENT

END:VCALENDAR
