BEGIN:VCALENDAR
VERSION:2.0
PRODID:-//ChamberMaster//Event Calendar 2.0//EN
METHOD:PUBLISH
X-PUBLISHED-TTL:P3D
REFRESH-INTERVAL:P3D
CALSCALE:GREGORIAN
BEGIN:VEVENT
DTSTART:20180719T213000Z
DTEND:20180719T230000Z
X-MICROSOFT-CDO-ALLDAYEVENT:FALSE
SUMMARY:Rogers Culture Series: “3 Nations Anthology: Native\, Canadian & New England Writers” with Valerie Lawson\, Resolute Bear Press
DESCRIPTION:Valerie Lawson\, author and editor of "3 Nations Anthology: Native\, Canadian and New England Writers\," will discuss her book with contributing authors\, with time for a Q&A.\n\nNew England and Atlantic Canada share borders\, boundaries\, blood\, and heritage. The land is disputed in places\, in others the US and Canada share responsibility\, and Tribal Lands reside as sovereign nations within their borders. The poems\, essays\, and short stories in this anthology explore the things that divide\, the bridges between\, and the intense love of this rugged region the people here hold in common.
X-ALT-DESC;FMTTYPE=text/html:<p>Valerie Lawson\, author and editor of &quot\;3&nbsp\;Nations Anthology: Native\, Canadian and New England Writers\,&quot\; will discuss her book with contributing authors\, with time for a Q&amp\;A.</p>\n\n<p>New England and Atlantic Canada share borders\, boundaries\, blood\, and heritage. The land is disputed in places\, in others the US and Canada share responsibility\, and Tribal Lands reside as sovereign nations within their borders. The poems\, essays\, and short stories&nbsp\;in this anthology explore the things that divide\, the bridges between\, and the intense love of this rugged region the people here hold in common.</p>\n
LOCATION:117 Main Street Kennebunk\, Maine 04043
UID:e.1923.9956
SEQUENCE:3
DTSTAMP:20260425T133256Z
URL:https://chamber.gokennebunks.com/events/details/rogers-culture-series-3-nations-anthology-native-canadian-new-england-writers-with-valerie-lawson-resolute-bear-press-9956
END:VEVENT

END:VCALENDAR
