BEGIN:VCALENDAR
VERSION:2.0
PRODID:-//ChamberMaster//Event Calendar 2.0//EN
METHOD:PUBLISH
X-PUBLISHED-TTL:P3D
REFRESH-INTERVAL:P3D
CALSCALE:GREGORIAN
BEGIN:VEVENT
DTSTART:20231020T233000Z
DTEND:20231021T013000Z
X-MICROSOFT-CDO-ALLDAYEVENT:FALSE
SUMMARY:ROCKY HORROR PICTURE SHOW
DESCRIPTION:On a wild and rain-swept late-November evening somewhere at an empty stretch of road outside Ohio's merry Denton\, blissfully-affianced\, prudish\, boringly-innocent young pair Brad Majors (Barry Bostwick) and Janet Weiss (Susan Sarandon) find themselves stranded on their way to visit an ex-tutor. Instead\, the couple will inadvertently unearth the cross-dressing Dr. Frank-N-Furter's (Tim Curry's) spooky lair of inexhaustible oddities just in time to partake in the out-of-this-world mad scientist's proud unveiling of his latest\, delightfully extravagant\, most (Peter Hinwood). But\, little by little\, as the effervescent transgressive force gobbles up whole the unsuspecting visitors of the night\, Brad and Janet slowly begin to embrace the potent fascinations of seduction\, while an idolized Rocky roams free in the mansion. Who can interrupt man's union with the absolute pleasure?" - https://www.imdb.com/title/tt0073629/ Not Allowed While costumes and participation from the seats is very strongly encouraged\, patrons will not be able to bring or purchase any materials to throw during this performance. Additional Info Appropriate for ages 13+.
X-ALT-DESC;FMTTYPE=text/html:On a wild and rain-swept late-November evening somewhere at an empty stretch of road outside Ohio&#39\;s merry Denton\, blissfully-affianced\, prudish\, boringly-innocent young pair Brad Majors (Barry Bostwick) and Janet Weiss (Susan Sarandon) find themselves stranded on their way to visit an ex-tutor. Instead\, the couple will inadvertently unearth the cross-dressing Dr. Frank-N-Furter&#39\;s (Tim Curry&#39\;s) spooky lair of inexhaustible oddities just in time to partake in the out-of-this-world mad scientist&#39\;s proud unveiling of his latest\, delightfully extravagant\, most (Peter Hinwood). But\, little by little\, as the effervescent transgressive force gobbles up whole the unsuspecting visitors of the night\, Brad and Janet slowly begin to embrace the potent fascinations of seduction\, while an idolized Rocky roams free in the mansion. Who can interrupt man&#39\;s union with the absolute pleasure?&rdquo\; - https://www.imdb.com/title/tt0073629/ Not Allowed While costumes and participation from the seats is very strongly encouraged\, patrons will not be able to bring or purchase any materials to throw during this performance. Additional Info Appropriate for ages 13+.
LOCATION:205 Main Street Biddeford\, ME 04005
UID:e.1923.22436
SEQUENCE:3
DTSTAMP:20260422T004922Z
URL:https://chamber.gokennebunks.com/events/details/rocky-horror-picture-show-22436
END:VEVENT

END:VCALENDAR
