BEGIN:VCALENDAR
VERSION:2.0
PRODID:-//ChamberMaster//Event Calendar 2.0//EN
METHOD:PUBLISH
X-PUBLISHED-TTL:P3D
REFRESH-INTERVAL:P3D
CALSCALE:GREGORIAN
BEGIN:VEVENT
DTSTART:20190616T000000Z
DTEND:20190616T030000Z
X-MICROSOFT-CDO-ALLDAYEVENT:FALSE
SUMMARY:Rock the Dock
DESCRIPTION:This special VIP after-party will feature live music\, specialty cocktails and small bites of delicious food on board one of our local vessels. It's the perfect way to end Saturday night and have a front-row seat for the boat parade!
X-ALT-DESC;FMTTYPE=text/html:This special VIP after-party will feature live music\, specialty cocktails and small bites of delicious food on board one of our local vessels. It&#39\;s the perfect way to end Saturday night and have a front-row seat for the boat parade!
LOCATION:Yachtsman Hotel & Marina Club\, Kennebunkport
UID:e.1923.13108
SEQUENCE:3
DTSTAMP:20260424T194324Z
URL:https://chamber.gokennebunks.com/events/details/rock-the-dock-13108
END:VEVENT

END:VCALENDAR
