BEGIN:VCALENDAR
VERSION:2.0
PRODID:-//ChamberMaster//Event Calendar 2.0//EN
METHOD:PUBLISH
X-PUBLISHED-TTL:P3D
REFRESH-INTERVAL:P3D
CALSCALE:GREGORIAN
BEGIN:VEVENT
DTSTART:20190503T230000Z
DTEND:20190504T001500Z
X-MICROSOFT-CDO-ALLDAYEVENT:FALSE
SUMMARY:River Tree Arts Children’s Theater Presents: The Wizard of Oz
DESCRIPTION:Please join us for 2 exciting evenings of performances. Tickets on sale now! Purchase tickets here: https://rivertreearts.org/theater/
X-ALT-DESC;FMTTYPE=text/html:Please join us for 2 exciting evenings of performances. Tickets on sale now! Purchase tickets here: https://rivertreearts.org/theater/
LOCATION:Vinegar Hill Music Theatre\, 53 Old Post Road Arundel\, ME
UID:e.1923.13129
SEQUENCE:3
DTSTAMP:20260424T222953Z
URL:https://chamber.gokennebunks.com/events/details/river-tree-arts-children-s-theater-presents-the-wizard-of-oz-13129
END:VEVENT

END:VCALENDAR
