BEGIN:VCALENDAR
VERSION:2.0
PRODID:-//ChamberMaster//Event Calendar 2.0//EN
METHOD:PUBLISH
X-PUBLISHED-TTL:P3D
REFRESH-INTERVAL:P3D
CALSCALE:GREGORIAN
BEGIN:VEVENT
DTSTART:20190504T230000Z
DTEND:20190505T001500Z
X-MICROSOFT-CDO-ALLDAYEVENT:FALSE
SUMMARY:River Tree Arts Children’s Theater Presents: The Wizard of Oz
DESCRIPTION:Please join us for 2 magical evenings of The Wizard of Oz performed by the River Tree Arts Children's Theater
X-ALT-DESC;FMTTYPE=text/html:Please join us for 2 magical evenings of The Wizard of Oz performed by the River Tree Arts Children&rsquo\;s Theater
LOCATION:Vinegar Hill Music Theatre 53 Old Post Road Arundel\, Maine
UID:e.1923.13130
SEQUENCE:3
DTSTAMP:20260424T210817Z
URL:https://chamber.gokennebunks.com/events/details/river-tree-arts-children-s-theater-presents-the-wizard-of-oz-05-04-2019-13130
END:VEVENT

END:VCALENDAR
