BEGIN:VCALENDAR
VERSION:2.0
PRODID:-//ChamberMaster//Event Calendar 2.0//EN
METHOD:PUBLISH
X-PUBLISHED-TTL:P3D
REFRESH-INTERVAL:P3D
CALSCALE:GREGORIAN
BEGIN:VEVENT
DTSTART:20190616T010000Z
DTEND:20190616T030000Z
X-MICROSOFT-CDO-ALLDAYEVENT:FALSE
SUMMARY:River Lights Parade
DESCRIPTION:Let's light up LAUNCH! with a boat parade featuring sparkling lights and fun decorations! After sunset\, Saturday night. Dusk. Cash prizes of up to $200 for the best decorated boat
X-ALT-DESC;FMTTYPE=text/html:Let&#39\;s light up LAUNCH! with a boat parade featuring sparkling lights and fun decorations! After sunset\, Saturday night. Dusk. Cash prizes of up to $200 for the best decorated boat
LOCATION:Kennebunk River
UID:e.1923.13109
SEQUENCE:3
DTSTAMP:20260424T194141Z
URL:https://chamber.gokennebunks.com/events/details/river-lights-parade-13109
END:VEVENT

END:VCALENDAR
