BEGIN:VCALENDAR
VERSION:2.0
PRODID:-//ChamberMaster//Event Calendar 2.0//EN
METHOD:PUBLISH
X-PUBLISHED-TTL:P3D
REFRESH-INTERVAL:P3D
CALSCALE:GREGORIAN
BEGIN:VEVENT
DTSTART:20190620T220000Z
DTEND:20190621T000000Z
X-MICROSOFT-CDO-ALLDAYEVENT:FALSE
SUMMARY:River Cruise Night with Avalon Waterways
DESCRIPTION:Dream Vacations invites you to learn more about the wonders of River Cruising with Avalon Waterways.\n\n\n\nYou've always forged your own path\, your own way\, with your own distinct perspective of looking at the world. Avalon Waterways presents a river cruise experience with your unique style in mind offering expansive views and wider perspectives. Whether you wish to sail through Europe down the legendary Danube or wind through\n\nSoutheast Asia down the majestic Mekong River\, you'll see a whole new world with a variety of choices and options to make your cruise truly your own. \n\n\n\nJoin Jennifer & Keith Belanger with Dream Vacations along with the Andrea Oshry from Avalon Waterways for an evening presentation on River Cruising.
X-ALT-DESC;FMTTYPE=text/html:<span style="color:rgb(29\, 33\, 41)\; font-family:helvetica\,arial\,sans-serif\; font-size:14px">Dream Vacations invites you to learn more about the wonders&nbsp\;</span><span style="color:rgb(29\, 33\, 41)\; font-family:helvetica\,arial\,sans-serif\; font-size:14px">of River Cruising with Avalon Waterways.</span><br />\n<br />\n<span style="color:rgb(29\, 33\, 41)\; font-family:helvetica\,arial\,sans-serif\; font-size:14px">You&rsquo\;ve always forged your own path\, your own way\, with your own distinct perspective of looking at the world. Avalon Waterways presents a river cruise experience with your unique style in mind offering expansive views and wider perspectives. Whether you wish to sail through Europe down the legendary Danube or wind through</span><br />\n<span style="color:rgb(29\, 33\, 41)\; font-family:helvetica\,arial\,sans-serif\; font-size:14px">Southeast Asia down the majestic Mekong River\, you&rsquo\;ll see a whole new world with a variety of choices and options to make your cruise truly your own. </span><br />\n<br />\n<span style="color:rgb(29\, 33\, 41)\; font-family:helvetica\,arial\,sans-serif\; font-size:14px">Join Jennifer &amp\; Keith Belanger with Dream Vacations along with the Andrea Oshry from Avalon Waterways for an evening presentation on River Cruising.</span>
LOCATION:Brick Store Museum 117 Main St\, Kennebunk\, Maine 04043
UID:e.1923.13163
SEQUENCE:3
DTSTAMP:20260424T194906Z
URL:https://chamber.gokennebunks.com/events/details/river-cruise-night-with-avalon-waterways-13163
END:VEVENT

END:VCALENDAR
