BEGIN:VCALENDAR
VERSION:2.0
PRODID:-//ChamberMaster//Event Calendar 2.0//EN
METHOD:PUBLISH
X-PUBLISHED-TTL:P3D
REFRESH-INTERVAL:P3D
CALSCALE:GREGORIAN
BEGIN:VEVENT
DTSTART:20180916T000000Z
DTEND:20180916T023000Z
X-MICROSOFT-CDO-ALLDAYEVENT:FALSE
SUMMARY:Rita Coolidge
DESCRIPTION:Rita Coolidge's impact is undiminished her voice as pure\, sweet and powerful as ever\, and her ability to get inside a song honed by experience and overview. After ten years during which she bore witness to some of her life's greatest joys and deepest sorrows and the publication of her acclaimed 2015 memoir\, Delta Lady Rita Coolidge is back with "Safe in the Arms of Time"\, her 18th solo album and a reaffirmation of her indomitable spirit and unquenchable creative thirst.
X-ALT-DESC;FMTTYPE=text/html:Rita Coolidge&rsquo\;s impact is undiminished&mdash\;her voice as pure\, sweet and powerful as ever\, and her ability to get inside a song honed by experience and overview. After ten years during which she bore witness to some of her life&rsquo\;s greatest joys and deepest sorrows&mdash\;and the publication of her acclaimed 2015 memoir\, Delta Lady&ndash\;Rita Coolidge is back with &ldquo\;Safe in the Arms of Time&rdquo\;\, her 18th solo album and a reaffirmation of her indomitable spirit and unquenchable creative thirst.
LOCATION:Vinegar Hill Music Theatre 53 Old Post Rd. Arundel\, ME 04046
UID:e.1923.9766
SEQUENCE:3
DTSTAMP:20260425T103652Z
URL:https://chamber.gokennebunks.com/events/details/rita-coolidge-9766
END:VEVENT

END:VCALENDAR
