BEGIN:VCALENDAR
VERSION:2.0
PRODID:-//ChamberMaster//Event Calendar 2.0//EN
METHOD:PUBLISH
X-PUBLISHED-TTL:P3D
REFRESH-INTERVAL:P3D
CALSCALE:GREGORIAN
BEGIN:VEVENT
DTSTART;VALUE=DATE:20171202
DTEND;VALUE=DATE:20171204
TRANSP:TRANSPARENT
X-MICROSOFT-CDO-ALLDAYEVENT:TRUE
SUMMARY:Ride with Santa on the Amtrak Downeaster
DESCRIPTION:Ride with Santa and start a NEW family tradition this holiday season! Mr. Claus will travel along with Amtrak Downeaster Train 691 and Train 696 on Saturday\, December 2nd and Sunday\, December 3rd to extend special greetings to our passengers!   These Downeaster trains will be decked out in holiday style to welcome our special guest and create magical holiday moments for our riders. \n\nVisit http://amtrakdowneaster.com/ridewithsanta for trip ideas to help you plan your ride with Santa!
X-ALT-DESC;FMTTYPE=text/html:<p><strong>Ride with Santa</strong>&nbsp\;and start a NEW family tradition this holiday season! Mr. Claus will travel along with Amtrak Downeaster&nbsp\;<strong>Train 691</strong><strong>&nbsp\;</strong>and&nbsp\;<strong>Train 696</strong>&nbsp\;on&nbsp\;<strong>Saturday\, December 2nd&nbsp\;</strong>and&nbsp\;<strong>Sunday\, December 3rd</strong>&nbsp\;to extend special greetings to our passengers! &nbsp\;&nbsp\;These Downeaster trains will be decked out in holiday style to welcome our special guest and create magical holiday moments for our riders.&nbsp\;</p>\n\n<p>Visit <a href="http://amtrakdowneaster.com/ridewithsanta">http://amtrakdowneaster.com/ridewithsanta</a> for&nbsp\;trip ideas to help you plan your ride with Santa!</p>\n
LOCATION:Wells Regional Transportation Center 696 Sanford Road Wells\, ME 04090
UID:e.1923.6982
SEQUENCE:3
DTSTAMP:20260425T222615Z
URL:https://chamber.gokennebunks.com/events/details/ride-with-santa-on-the-amtrak-downeaster-6982
END:VEVENT

END:VCALENDAR
