BEGIN:VCALENDAR
VERSION:2.0
PRODID:-//ChamberMaster//Event Calendar 2.0//EN
METHOD:PUBLISH
X-PUBLISHED-TTL:P3D
REFRESH-INTERVAL:P3D
CALSCALE:GREGORIAN
BEGIN:VEVENT
DTSTART:20250723T183000Z
DTEND:20250723T190000Z
X-MICROSOFT-CDO-ALLDAYEVENT:FALSE
SUMMARY:Ribbon Cutting Celebration: Mainely Experiences
DESCRIPTION:The Kennebunk-Kennebunkport-Arundel Chamber of Commerce and Mainely Experiences invite you to join us as we celebrate a special ribbon cutting ceremony in the heart of Kennebunkport.\n\nFounded by Deborah Roberts\, Mainely Experiences offers luxury picnics\, private foodie and history tours\, concierge travel planning\, and step-on guide services throughout Maine.\n\nStop by to enjoy sweet treats and view an elegant luxury picnic display as we mark this exciting milestone together! \n\n\n\nwww.mainelyexperiences.com
X-ALT-DESC;FMTTYPE=text/html:<p>The Kennebunk-Kennebunkport-Arundel Chamber of Commerce and Mainely Experiences invite you to join us as we celebrate a special ribbon cutting ceremony in the heart of Kennebunkport.</p>\n\n<p>Founded by Deborah Roberts\, Mainely Experiences offers luxury picnics\, private foodie and history tours\, concierge travel planning\, and step-on guide services throughout Maine.</p>\n\n<p>Stop by to enjoy sweet treats and view an elegant luxury picnic display as we mark this exciting milestone together!&nbsp\;<br />\n<br />\n<a href="http://www.mainelyexperiences.com" rel="noopener" target="_new">www.mainelyexperiences.com</a></p>\n
LOCATION:Ganny's Garden/Village Green Park\, 52 Ocean Avenue\, Kennebunkport
UID:e.1923.37672
SEQUENCE:3
DTSTAMP:20260421T073720Z
URL:https://chamber.gokennebunks.com/events/details/ribbon-cutting-celebration-mainely-experiences-37672
END:VEVENT

END:VCALENDAR
