BEGIN:VCALENDAR
VERSION:2.0
PRODID:-//ChamberMaster//Event Calendar 2.0//EN
METHOD:PUBLISH
X-PUBLISHED-TTL:P3D
REFRESH-INTERVAL:P3D
CALSCALE:GREGORIAN
BEGIN:VEVENT
DTSTART:20250730T183000Z
DTEND:20250730T200000Z
X-MICROSOFT-CDO-ALLDAYEVENT:FALSE
SUMMARY:Ribbon Cutting Celebration - Breakwater Inn & Port Fish and Chophouse
DESCRIPTION:Join us on Wednesday\, 7/30 at 2:30 PM as we celebrate the grand re-opening of Breakwater Inn & Port Fish and Chophouse with a ribbon cutting celebration!\n\n\n\nThe Breakwater looks forward to welcoming everyone to the ribbon cutting ceremony on July 30th! Afterward\, we invite you all to the Port Fish & Chop House bar and lawn area\, where we will celebrate at 3pm with refreshments and light bites from our new Happy Hour menu.
X-ALT-DESC;FMTTYPE=text/html:<strong><span style="font-size:16px\;">Join us on Wednesday\, 7/30 at 2:30 PM as we celebrate the grand re-opening of <span style="color: rgb(34\, 34\, 34)\; font-family: arial\, sans-serif\;">Breakwater Inn &amp\; Port Fish and Chophouse</span> with a ribbon cutting celebration!</span></strong><br />\n<br />\n<span style="color: rgb(34\, 34\, 34)\; font-family: Arial\, Helvetica\, sans-serif\; font-size: small\;">The Breakwater looks forward to welcoming everyone to the ribbon cutting ceremony on&nbsp\;July 30th! Afterward\, we invite you all to the Port Fish &amp\; Chop House bar and lawn area\, where we will celebrate at 3pm with refreshments and light bites from our new Happy Hour menu.</span>
LOCATION:127 Ocean Ave\, Kennebunkport
UID:e.1923.37684
SEQUENCE:3
DTSTAMP:20260421T074542Z
URL:https://chamber.gokennebunks.com/events/details/ribbon-cutting-celebration-breakwater-inn-port-fish-and-chophouse-37684
END:VEVENT

END:VCALENDAR
