BEGIN:VCALENDAR
VERSION:2.0
PRODID:-//ChamberMaster//Event Calendar 2.0//EN
METHOD:PUBLISH
X-PUBLISHED-TTL:P3D
REFRESH-INTERVAL:P3D
CALSCALE:GREGORIAN
BEGIN:VEVENT
DTSTART:20190718T200000Z
DTEND:20190718T213000Z
X-MICROSOFT-CDO-ALLDAYEVENT:FALSE
SUMMARY:Ribbon Cutting at The Daily Sweat
DESCRIPTION:We're three weeks in and what better way to celebrate than our very own ribbon cutting party? We felt like it was time to make this whole thing official and we need YOU to help us make it special. \n\n\n\nJoin us for snacks (cupcakes if Tiffany plans it) and olives (if not)\, adult + kid friendly beverages\, meet our team + baby hope (she's running against the golden t rex for team mascot) and stay for a super sweaty buti class at 6p if you're up for it. \n\n\n\nWe're thrilled to be in this community and we literally sit with our jaw dropped half the day because you've already welcomed us with open arms. So let's party! \n\n\n\nPS someone mentioned a gift card for a FREE month\, a free class pass and a retail deal #justsayin
X-ALT-DESC;FMTTYPE=text/html:<span style="font-family:tahoma"><span style="color:rgb(38\, 51\, 51)\; font-size:16px">We&#39\;re three weeks in and what better way to celebrate than our very own ribbon cutting party? We felt like it was time to make this whole thing official and we need YOU to help us make it special. </span><br />\n<br />\n<span style="color:rgb(38\, 51\, 51)\; font-size:16px">Join us for snacks (cupcakes if Tiffany plans it) and olives (if not)\, adult + kid friendly beverages\, meet our team + baby hope (she&#39\;s running against the golden t rex for team mascot) and stay for a super sweaty buti class at 6p if you&#39\;re up for it. </span><br />\n<br />\n<span style="color:rgb(38\, 51\, 51)\; font-size:16px">We&#39\;re thrilled to be in this community and we literally sit with our jaw dropped half the day because you&#39\;ve already welcomed us with open arms. So let&#39\;s party! </span><br />\n<br />\n<span style="color:rgb(38\, 51\, 51)\; font-size:16px">PS someone mentioned a gift card for a FREE month\, a free class pass and a retail deal #justsayin</span></span>
LOCATION:The Daily Sweat 65 Portland Road Building A\, Suite D Kennbunk\, ME 04043
UID:e.1923.13390
SEQUENCE:3
DTSTAMP:20260424T183335Z
URL:https://chamber.gokennebunks.com/events/details/ribbon-cutting-at-the-daily-sweat-13390
END:VEVENT

END:VCALENDAR
