BEGIN:VCALENDAR
VERSION:2.0
PRODID:-//ChamberMaster//Event Calendar 2.0//EN
METHOD:PUBLISH
X-PUBLISHED-TTL:P3D
REFRESH-INTERVAL:P3D
CALSCALE:GREGORIAN
BEGIN:VEVENT
DTSTART;VALUE=DATE:20240628
DTEND;VALUE=DATE:20240629
TRANSP:TRANSPARENT
X-MICROSOFT-CDO-ALLDAYEVENT:TRUE
SUMMARY:Revolution Rail Pride Ride Day!
DESCRIPTION:Join Revolution Rail for a day of Pride! Enjoy 10% off any of our railbike tours at 9:30\, 11\, 12:30\, 2\, and 3:30 pm. In addition\, 10% of the proceeds will be donated to the Equality Community Center. As another bonus\, railbike bookings include free admission to the Seashore Trolley Museum. Rev Rail offers railbike adventures for all! Use the code REVPRIDE to apply the 10% discount.
X-ALT-DESC;FMTTYPE=text/html:Join Revolution Rail for a day of Pride! Enjoy 10% off any of our railbike tours at 9:30\, 11\, 12:30\, 2\, and 3:30 pm. In addition\, 10% of the proceeds will be donated to the Equality Community Center. As another bonus\, railbike bookings include free admission to the Seashore Trolley Museum. Rev Rail offers railbike adventures for all! Use the code REVPRIDE to apply the 10% discount.&nbsp\;
LOCATION:We are located at the Seashore Trolley Museum at 195 Log Cabin Road\, Kennebunkport
UID:e.1923.25436
SEQUENCE:3
DTSTAMP:20260421T135939Z
URL:https://chamber.gokennebunks.com/events/details/revolution-rail-pride-ride-day-25436
END:VEVENT

END:VCALENDAR
