BEGIN:VCALENDAR
VERSION:2.0
PRODID:-//ChamberMaster//Event Calendar 2.0//EN
METHOD:PUBLISH
X-PUBLISHED-TTL:P3D
REFRESH-INTERVAL:P3D
CALSCALE:GREGORIAN
BEGIN:VEVENT
DTSTART;VALUE=DATE:20240623
DTEND;VALUE=DATE:20240624
TRANSP:TRANSPARENT
X-MICROSOFT-CDO-ALLDAYEVENT:TRUE
SUMMARY:Rev Rail Celebrating One Year in Kennebunkport!
DESCRIPTION:Revolution Rail is thrilled to celebrate our 1-year anniversary in Kennebunkport at the Seashore Trolley Museum! On June 23\, we're offering a 10% discount on all railbiking adventures to mark this special occasion. As part of our commitment to the community\, 10% of all proceeds during this event will be donated to local charity. Don't miss out on this exciting opportunity to enjoy the great outdoors and support a wonderful cause. Celebrate with us\, experience the thrill of railbiking\, and then enjoy visiting the Seashore Trolley Museum. Every Rev Rail railbiking ticket includes admission to the museum! To receive 10% off your booking\, use the promo code REVPARTY
X-ALT-DESC;FMTTYPE=text/html:Revolution Rail is thrilled to celebrate our 1-year anniversary in Kennebunkport at the Seashore Trolley Museum! On June 23\, we&#39\;re offering a 10% discount on all railbiking adventures to mark this special occasion. As part of our commitment to the community\, 10% of all proceeds during this event will be donated to local charity. Don&#39\;t miss out on this exciting opportunity to enjoy the great outdoors and support a wonderful cause. Celebrate with us\, experience the thrill of railbiking\, and then enjoy visiting the Seashore Trolley Museum. Every Rev Rail railbiking ticket includes admission to the museum! To receive 10% off your booking\, use the promo code REVPARTY
LOCATION:Rev Rail is located at the Seashore Trolley Museum 195 Log Cabin Road Kennebunkport
UID:e.1923.25395
SEQUENCE:3
DTSTAMP:20260421T140259Z
URL:https://chamber.gokennebunks.com/events/details/rev-rail-celebrating-one-year-in-kennebunkport-25395
END:VEVENT

END:VCALENDAR
