BEGIN:VCALENDAR
VERSION:2.0
PRODID:-//ChamberMaster//Event Calendar 2.0//EN
METHOD:PUBLISH
X-PUBLISHED-TTL:P3D
REFRESH-INTERVAL:P3D
CALSCALE:GREGORIAN
BEGIN:VEVENT
DTSTART:20190928T180000Z
DTEND:20190928T200000Z
X-MICROSOFT-CDO-ALLDAYEVENT:FALSE
SUMMARY:Restorative Yoga with Acupuncture and Reiki
DESCRIPTION:join us for a special restorative class with guests Lynne Bottomley and Annie Leslie. class will be 2 hours long beginning with introductions and some gentle movement. we'll read your animal spirit cards and you'll get to indulge in 90 minutes or restorative yoga with reiki and acupuncture.
X-ALT-DESC;FMTTYPE=text/html:join us for a special restorative class with guests Lynne Bottomley and Annie Leslie. class will be 2 hours long beginning with introductions and some gentle movement. we&#39\;ll read your animal spirit cards and you&#39\;ll get to indulge in 90 minutes or restorative yoga with reiki and acupuncture.
LOCATION:65 Portland Rd\, Kennebunk
UID:e.1923.13420
SEQUENCE:3
DTSTAMP:20260424T154129Z
URL:https://chamber.gokennebunks.com/events/details/restorative-yoga-with-acupuncture-and-reiki-13420
END:VEVENT

END:VCALENDAR
