BEGIN:VCALENDAR
VERSION:2.0
PRODID:-//ChamberMaster//Event Calendar 2.0//EN
METHOD:PUBLISH
X-PUBLISHED-TTL:P3D
REFRESH-INTERVAL:P3D
CALSCALE:GREGORIAN
BEGIN:VEVENT
DTSTART:20240419T200000Z
DTEND:20240421T220000Z
X-MICROSOFT-CDO-ALLDAYEVENT:FALSE
SUMMARY:restorative yoga teacher training
DESCRIPTION:There is more than sweat that sets us apart. We are committed to making sure that every teacher that steps into a room feels confident and supported to teach a group of all sizes\, shapes + abilities. During training we'll give you the tools necessary to give you a solid foundation in yoga history along with learning anatomy\, physiology\, how the body moves\, ethics\, and so much more.\n\n\n\nOur teacher training program will enable you to teach a dynamic\, unique\, and calming restorative class\, one appropriate for all levels. We'll dive into incorporating themes\, sequencing your poses + music. You'll walk out with practical teaching experience\, which we start during the very first week. Our mission to help you find your true yoga teacher self and voice.
X-ALT-DESC;FMTTYPE=text/html:<span style="color:rgb(0\, 0\, 0)\; font-family:arial">There is more than sweat that sets us apart. We are committed to making sure that every teacher that steps into a room feels confident and supported to teach a group of all sizes\, shapes + abilities. During training we&rsquo\;ll give you the tools necessary to give you a solid foundation in yoga history along with learning anatomy\, physiology\, how the body moves\, ethics\, and so much more.<br />\n<br />\nOur teacher training program will enable you to teach a dynamic\, unique\, and calming restorative class\, one appropriate for all levels. We&rsquo\;ll dive into incorporating themes\, sequencing your poses + music. You&rsquo\;ll walk out with practical teaching experience\, which we start during the very first week. Our mission to help you find your true yoga teacher self and voice. </span>
LOCATION:The Daily Sweat 65 Portland Rd Kennebunk\, ME
UID:e.1923.24491
SEQUENCE:3
DTSTAMP:20260421T163952Z
URL:https://chamber.gokennebunks.com/events/details/restorative-yoga-teacher-training-24491
END:VEVENT

END:VCALENDAR
