BEGIN:VCALENDAR
VERSION:2.0
PRODID:-//ChamberMaster//Event Calendar 2.0//EN
METHOD:PUBLISH
X-PUBLISHED-TTL:P3D
REFRESH-INTERVAL:P3D
CALSCALE:GREGORIAN
BEGIN:VEVENT
DTSTART:20240313T191500Z
DTEND:20240313T200000Z
X-MICROSOFT-CDO-ALLDAYEVENT:FALSE
SUMMARY:ReMade in Hope Shadow Box Event
DESCRIPTION:As a part of South Congregational Church's ReMade in Hope - Participants of all ages and especially children are invited to create shoebox shadow boxes\, exploring themes of light/dark. Materials provided or can be brought.
X-ALT-DESC;FMTTYPE=text/html:<div style="background:transparent\; border:0px\; padding:0px">\n<p><span style="font-family:futura-lt-w01-book\,futura-lt-w05-book\,sans-serif">As a part of South Congregational Church&#39\;s ReMade in Hope - Participants of all ages and especially children are invited to create shoebox shadow boxes\, exploring themes of light/dark. Materials provided or can be brought.</span></p>\n</div>\n\n<div style="background:transparent\; border:0px\; padding:0px">\n<div style="background:transparent\; border:0px\; padding:0px">&nbsp\;</div>\n</div>\n
LOCATION:Louis T. Graves Memorial Library | 18 Maine St\, Kennebunkport
UID:e.1923.24495
SEQUENCE:3
DTSTAMP:20260421T180354Z
URL:https://chamber.gokennebunks.com/events/details/remade-in-hope-shadow-box-event-24495
END:VEVENT

END:VCALENDAR
