BEGIN:VCALENDAR
VERSION:2.0
PRODID:-//ChamberMaster//Event Calendar 2.0//EN
METHOD:PUBLISH
X-PUBLISHED-TTL:P3D
REFRESH-INTERVAL:P3D
CALSCALE:GREGORIAN
BEGIN:VEVENT
DTSTART:20240302T150000Z
DTEND:20240302T160000Z
X-MICROSOFT-CDO-ALLDAYEVENT:FALSE
SUMMARY:READ ACROSS AMERICA
DESCRIPTION:Saturday\, March 2 from 10:00-11:00 AM. Read Across America and Dr. Seuss's Birthday. Celebrate Dr. Seuss's birthday and Read Across America at the Louis T. Graves Memorial Public Library. Come take a photo with a giant Cat in the Hat\, color a bookmark\, and check out lots of books! The Louis T. Graves Memorial Public Library is located at 18 Maine Street\, Kennebunkport. For further information\, please call 967-2778 or visit our website at www.graveslibrary.org.
X-ALT-DESC;FMTTYPE=text/html:<span style="font-family:arial\,sans-serif">Saturday\, March 2 from 10:00-11:00 AM. <strong>Read Across America and Dr. Seuss&rsquo\;s Birthday</strong>. Celebrate Dr. Seuss&rsquo\;s birthday and Read Across America at the Louis T. Graves Memorial Public Library. Come take a photo with a giant Cat in the Hat\, color a bookmark\, and check out lots of books! The Louis T. Graves Memorial Public Library is located at 18 Maine Street\, Kennebunkport. For further information\, please call 967-2778 or visit our website at www.graveslibrary.org.</span>
LOCATION:Louis T. Graves Memorial Public Library\, 18 Maine Street\, Kennebunkport
UID:e.1923.24426
SEQUENCE:3
DTSTAMP:20260421T180321Z
URL:https://chamber.gokennebunks.com/events/details/read-across-america-24426
END:VEVENT

END:VCALENDAR
