BEGIN:VCALENDAR
VERSION:2.0
PRODID:-//ChamberMaster//Event Calendar 2.0//EN
METHOD:PUBLISH
X-PUBLISHED-TTL:P3D
REFRESH-INTERVAL:P3D
CALSCALE:GREGORIAN
BEGIN:VEVENT
DTSTART:20241025T132000Z
DTEND:20241025T143000Z
X-MICROSOFT-CDO-ALLDAYEVENT:FALSE
SUMMARY:Railbike Ride with Revolution Rail
DESCRIPTION:We are excited to work with the Seashore Trolley Museum to offer a fun and physical railbike ride at the world's first electric trolley museum. This is fun for ALL ages. Take a 3.5-mile round-trip guided tour as you pedal through history\, ride on a historic railroad\, learn about the fascinating local trolley history\, and then grab yourself some lobster in beautiful downtown Kennebunkport. Come ride with us on our two- or four-seat railbikes!\n\nBONUS! Same-day admission to the Seashore Trolley Museum is included in the price of your railbike excursion. Plan to spend time exploring the museum's exhibits and enjoy a free trolley ride on non-special event days. Please note that if you book the 3:20 p.m. tour\, you will need to visit the museum before your railbike ride\, as the museum closes at 4:30 p.m. The last trolley ride that works in tandem with a railbike ride is 2:15 p.m. Please plan accordingly.
X-ALT-DESC;FMTTYPE=text/html:<p>We are excited to work with the Seashore Trolley Museum to offer a fun and physical railbike ride at the world&rsquo\;s first electric trolley museum. T<strong>his is fun for ALL ages</strong>. Take a 3.5-mile round-trip guided tour as you pedal through history\, ride on a historic railroad\, learn about the fascinating local trolley history\, and then grab yourself some lobster in beautiful downtown Kennebunkport. Come ride with us on our two- or four-seat railbikes!</p>\n\n<p><strong>BONUS! Same-day admission to the </strong><a href="https://trolleymuseum.org/" style="background-image: unset\; background-position: unset\; background-size: unset\; background-repeat: unset\; background-attachment: scroll\; background-origin: padding-box\; background-clip: border-box\; cursor: pointer\; color: rgb(0\, 0\, 0)\; white-space: initial\; text-decoration-style: solid\; text-decoration-color: currentcolor\; text-decoration-thickness: 1px\; text-underline-offset: 0.2em\; text-decoration-skip-ink: auto\; overflow-wrap: break-word\;" target="_blank"><strong>Seashore Trolley Museum</strong></a><strong> is included in the price of your railbike excursion. </strong>Plan to spend time exploring the museum&rsquo\;s exhibits and enjoy a free trolley ride on non-special event days. <em>Please note that if you book the 3:20 p.m. tour\, you will need to visit the museum before your railbike ride\, as the museum closes at 4:30 p.m.</em> <em>The last trolley ride that works in tandem with a railbike ride is 2:15 p.m. Please plan accordingly.</em></p>\n
LOCATION:195 Log Cabin Road\, Kennebunkport\, ME\, located at the Seashore Trolly Museum
UID:e.1923.29873
SEQUENCE:3
DTSTAMP:20260421T100130Z
URL:https://chamber.gokennebunks.com/events/details/railbike-ride-with-revolution-rail-10-25-2024-29873
END:VEVENT

END:VCALENDAR
