BEGIN:VCALENDAR
VERSION:2.0
PRODID:-//ChamberMaster//Event Calendar 2.0//EN
METHOD:PUBLISH
X-PUBLISHED-TTL:P3D
REFRESH-INTERVAL:P3D
CALSCALE:GREGORIAN
BEGIN:VEVENT
DTSTART:20240928T130000Z
DTEND:20240928T190000Z
X-MICROSOFT-CDO-ALLDAYEVENT:FALSE
SUMMARY:Rabbitat Planting Party - National Public Lands Day
DESCRIPTION:Come celebrate National Public Lands Day on a Rachel Carson National Wildlife Refuge property on Cutts Island in Kittery\, Maine where volunteers will be working to enhance habitat for the endangered New England cottontail. Activities for enhancing habitat for New England cottontails will include planting native shrubs\, managing invasive species\, pruning young trees to promote new growth\, and building brush piles to help increase winter survival. If you are interested in joining us for this event\, please contact Sarah Dudek at sarah_dudek@fws.com for event details and registration.
X-ALT-DESC;FMTTYPE=text/html:Come celebrate National Public Lands Day on a Rachel Carson National Wildlife Refuge property on Cutts Island in Kittery\, Maine where volunteers will be working to enhance habitat for the endangered New England cottontail. Activities for enhancing habitat for New England cottontails will include planting native shrubs\, managing invasive species\, pruning young trees to promote new growth\, and building brush piles to help increase winter survival. If you are interested in joining us for this event\, please contact Sarah Dudek at sarah_dudek@fws.com for event details and registration.
LOCATION:Kittery\, Maine
UID:e.1923.30512
SEQUENCE:3
DTSTAMP:20260421T100116Z
URL:https://chamber.gokennebunks.com/events/details/rabbitat-planting-party-national-public-lands-day-30512
END:VEVENT

END:VCALENDAR
