BEGIN:VCALENDAR
VERSION:2.0
PRODID:-//ChamberMaster//Event Calendar 2.0//EN
METHOD:PUBLISH
X-PUBLISHED-TTL:P3D
REFRESH-INTERVAL:P3D
CALSCALE:GREGORIAN
BEGIN:VEVENT
DTSTART:20180720T000000Z
DTEND:20180720T020000Z
X-MICROSOFT-CDO-ALLDAYEVENT:FALSE
SUMMARY:R-Rated Hypnotist Frank Santos\, Jr.
DESCRIPTION:Be amazed when you\, your friends or strangers across the room become stars of the show\, as Hypnotist/Comedian Frank Santos Jr. make them believe that they are singers\, dancers and much\, much more. This is a performance where the audience becomes the show. His performance has limitless variations and can please every appetite. This is a hilarious\, energetic and unique show that you will never forget!
X-ALT-DESC;FMTTYPE=text/html:Be amazed when you\, your friends or strangers across the room become stars of the show\, as Hypnotist/Comedian Frank Santos Jr. make them believe that they are singers\, dancers and much\, much more. This is a performance where the audience becomes the show. His performance has limitless variations and can please every appetite. This is a hilarious\, energetic and unique show that you will never forget!
LOCATION:Vinegar Hill Music Theatre 53 Old Post Rd. Arundel\, ME 04046
UID:e.1923.7170
SEQUENCE:3
DTSTAMP:20260425T132943Z
URL:https://chamber.gokennebunks.com/events/details/r-rated-hypnotist-frank-santos-jr-7170
END:VEVENT

END:VCALENDAR
