BEGIN:VCALENDAR
VERSION:2.0
PRODID:-//ChamberMaster//Event Calendar 2.0//EN
METHOD:PUBLISH
X-PUBLISHED-TTL:P3D
REFRESH-INTERVAL:P3D
CALSCALE:GREGORIAN
BEGIN:VEVENT
DTSTART:20180817T000000Z
DTEND:20180817T023000Z
X-MICROSOFT-CDO-ALLDAYEVENT:FALSE
SUMMARY:Quebe Sisters
DESCRIPTION:When the Quebe Sisters from Texas take a stage\, and the triple-threat fiddle champions start playing and singing in multi-part close harmony\, audiences are usually transfixed\, then blown away. It's partly because the trio's vocal and instrumental performances are authentic all-Americana.
X-ALT-DESC;FMTTYPE=text/html:When the Quebe Sisters from Texas take a stage\, and the triple-threat fiddle champions start playing and singing in multi-part close harmony\, audiences are usually transfixed\, then blown away. It&rsquo\;s partly because the trio&rsquo\;s vocal and instrumental performances are authentic all-Americana.
LOCATION:Vinegar Hill Music Theatre 53 Old Post Rd. Arundel\, ME 04046
UID:e.1923.9812
SEQUENCE:3
DTSTAMP:20260425T115521Z
URL:https://chamber.gokennebunks.com/events/details/quebe-sisters-9812
END:VEVENT

END:VCALENDAR
