BEGIN:VCALENDAR
VERSION:2.0
PRODID:-//ChamberMaster//Event Calendar 2.0//EN
METHOD:PUBLISH
X-PUBLISHED-TTL:P3D
REFRESH-INTERVAL:P3D
CALSCALE:GREGORIAN
BEGIN:VEVENT
DTSTART:20240425T191500Z
DTEND:20240425T200000Z
X-MICROSOFT-CDO-ALLDAYEVENT:FALSE
SUMMARY:PULITZER PRIZE WINNING JOURNALIST - BARBARA WALSH
DESCRIPTION:Thursday\, April 25 at 3:15 PM. Maine Author Barbara Walsh. Pulitzer Prize-winning journalist Barbara Walsh will discuss her new book "Spencer: Boston's Beloved Marathon Dog\," a story of hope\, inspiration\, and a dog who lit up the world with his love. With a heart as big as the Boston skyline\, Spencer gained worldwide fame as the beloved Boston Marathon dog. For eight years\, the golden retriever cheered for thousands of runners in the cold\, freezing rain\, even as he recovered from cancer. Spencer began rooting for Boston Marathon runners in 2015. At Mile 3\, Spencer held his Boston Strong flags\, inspiring athletes and fans to be brave and never give up. Honored as the marathon's official race dog in 2022\, Spencer grew so famous that runners lined up to hug and photograph their loyal fan. The Louis T. Graves Memorial Public Library is located at 18 Maine Street\, Kennebunkport. For further information\, please call 967-2778 or visit our website at www.graveslibrary.org.
X-ALT-DESC;FMTTYPE=text/html:<span style="font-family:arial\,sans-serif"><span style="font-size:10.5pt">Thursday\, April 25 at 3:15 PM. <strong>Maine Author Barbara Walsh</strong>. Pulitzer Prize-winning journalist Barbara Walsh will discuss her new book &ldquo\;Spencer: Boston&#39\;s Beloved Marathon Dog\,&rdquo\; a story of hope\, inspiration\, and a dog who lit up the world with his love. With a heart as big as the Boston skyline\, Spencer gained worldwide fame as the beloved Boston Marathon dog. For eight years\, the golden retriever cheered for thousands of runners in the cold\, freezing rain\, even as he recovered from cancer. Spencer began rooting for Boston Marathon runners in 2015. At Mile 3\, Spencer held his Boston Strong flags\, inspiring athletes and fans to be brave and never give up. Honored as the marathon&rsquo\;s official race dog in 2022\, Spencer grew so famous that runners lined up to hug and photograph their loyal fan. The Louis T. Graves Memorial Public Library is located at 18 Maine Street\, Kennebunkport. For further information\, please call 967-2778 or visit our website at www.graveslibrary.org.</span></span>
LOCATION:The Louis T. Graves Memorial Public Library is located at 18 Maine Street\, Kennebunkport. For further information\, please call 967-2778 or visit our website at www.graveslibrary.org.
UID:e.1923.24562
SEQUENCE:3
DTSTAMP:20260421T164059Z
URL:https://chamber.gokennebunks.com/events/details/pulitzer-prize-winning-journalist-barbara-walsh-24562
END:VEVENT

END:VCALENDAR
