BEGIN:VCALENDAR
VERSION:2.0
PRODID:-//ChamberMaster//Event Calendar 2.0//EN
METHOD:PUBLISH
X-PUBLISHED-TTL:P3D
REFRESH-INTERVAL:P3D
CALSCALE:GREGORIAN
BEGIN:VEVENT
DTSTART:20240106T000000Z
DTEND:20240106T013000Z
X-MICROSOFT-CDO-ALLDAYEVENT:FALSE
SUMMARY:'PSYCHIC' AND COMEDIAN\, PETER ANTONIOU
DESCRIPTION:Telling jokes and fortunes\, Peter Antoniou fuses his amazing and uncanny ability to read minds with razor sharp wit\, story telling\, and improvisational comedy to create unique live entertainment experiences. From London's West End to America's Got Talent\, he has become an international sensation\, presenting his remarkable and hilarious shows for sell-out theatre audiences\, comedy clubs\, blue chip companies\, and royalty. "You are a wizard" - Simon Cowell "Should be put on a pedestal above his competitors" - Broadway Baby "It's unbelievable what you can do" - Howie Mandel "Sharp and Fast  a balance of humour and amazement" - The Scotsman "You are the total package" - Heidi Klum
X-ALT-DESC;FMTTYPE=text/html:Telling jokes and fortunes\, Peter Antoniou fuses his amazing and uncanny ability to read minds with razor sharp wit\, story telling\, and improvisational comedy to create unique live entertainment experiences. From London&rsquo\;s West End to America&rsquo\;s Got Talent\, he has become an international sensation\, presenting his remarkable and hilarious shows for sell-out theatre audiences\, comedy clubs\, blue chip companies\, and royalty. &ldquo\;You are a wizard&rdquo\; - Simon Cowell &ldquo\;Should be put on a pedestal above his competitors&rdquo\; - Broadway Baby &ldquo\;It&rsquo\;s unbelievable what you can do&rdquo\; - Howie Mandel &ldquo\;Sharp and Fast&hellip\; a balance of humour and amazement&rdquo\; - The Scotsman &ldquo\;You are the total package&rdquo\; - Heidi Klum
LOCATION:Biddeford City Theater 205 Main Street Biddeford\, ME 04005
UID:e.1923.22447
SEQUENCE:3
DTSTAMP:20260421T204735Z
URL:https://chamber.gokennebunks.com/events/details/psychic-and-comedian-peter-antoniou-22447
END:VEVENT

END:VCALENDAR
