BEGIN:VCALENDAR
VERSION:2.0
PRODID:-//ChamberMaster//Event Calendar 2.0//EN
METHOD:PUBLISH
X-PUBLISHED-TTL:P3D
REFRESH-INTERVAL:P3D
CALSCALE:GREGORIAN
BEGIN:VEVENT
DTSTART:20240106T003000Z
DTEND:20240106T023000Z
X-MICROSOFT-CDO-ALLDAYEVENT:FALSE
SUMMARY:'PSYCHIC' AND COMEDIAN\, PETER ANTONIOU
DESCRIPTION:Overview From amazing the judges on America's Got Talent\, to headlining in Las Vegas\, to selling out shows in London's West End\, Peter Antoniou's mind reading skills have astounded audiences around the globe. Combining razor-sharp British wit with a stunning ability to know exactly what you're thinking\, Peter's shows are interactive and unforgettable. Join him as he reads minds and tickles funny bones\, telling jokes and fortunes live on stage. "A wizard." - Simon Cowell "...should be put on a pedestal above his competitors." - Broadway Baby "It's unbelievable what [he] can do." - Howie Mandel "Sharp and Fast  a balance of humor and amazement" - The Scotsman "The total package!" - Heidi Klum More information at https://www.citytheater.org/buy-tickets/
X-ALT-DESC;FMTTYPE=text/html:Overview From amazing the judges on America&rsquo\;s Got Talent\, to headlining in Las Vegas\, to selling out shows in London&#39\;s West End\, Peter Antoniou&rsquo\;s mind reading skills have astounded audiences around the globe. Combining razor-sharp British wit with a stunning ability to know exactly what you&#39\;re thinking\, Peter&rsquo\;s shows are interactive and unforgettable. Join him as he reads minds and tickles funny bones\, telling jokes and fortunes live on stage. &ldquo\;A wizard.&rdquo\; - Simon Cowell &ldquo\;...should be put on a pedestal above his competitors.&rdquo\; - Broadway Baby &ldquo\;It&rsquo\;s unbelievable what [he] can do.&rdquo\; - Howie Mandel &ldquo\;Sharp and Fast&hellip\; a balance of humor and amazement&rdquo\; - The Scotsman &quot\;The total package!&quot\; - Heidi Klum More information at https://www.citytheater.org/buy-tickets/
LOCATION:Biddeford City Theater
UID:e.1923.22494
SEQUENCE:3
DTSTAMP:20260421T204950Z
URL:https://chamber.gokennebunks.com/events/details/psychic-and-comedian-peter-antoniou-01-05-2024-22494
END:VEVENT

END:VCALENDAR
