BEGIN:VCALENDAR
VERSION:2.0
PRODID:-//ChamberMaster//Event Calendar 2.0//EN
METHOD:PUBLISH
X-PUBLISHED-TTL:P3D
REFRESH-INTERVAL:P3D
CALSCALE:GREGORIAN
BEGIN:VEVENT
DTSTART:20260321T173000Z
DTEND:20260321T190000Z
X-MICROSOFT-CDO-ALLDAYEVENT:FALSE
SUMMARY:Provision Mixology at Ocean
DESCRIPTION:Shake\, stir\, and sip your way through a guided cocktail experience at Ocean. In this interactive class\, you'll learn the stories\, flavor profiles\, and techniques behind three timeless cocktails: the elegant French 75\, the crisp and refreshing Gin Rickey\, and the smooth\, honey-kissed Bee's Knees. Perfect for cocktail enthusiasts and curious beginners alike\, this class blends hands-on fun with classic cocktail culture in a relaxed\, social setting. Tickets include: ?? Three(3) cocktails ?? Light bites & snacks ?? Take home recipe cards __ Class is open to adults 21 years of age or older. Proper ID is required at door. We look forward to seeing you. Part of Ocean's Spring into Summer Programming.
X-ALT-DESC;FMTTYPE=text/html:Shake\, stir\, and sip your way through a guided cocktail experience at Ocean. In this interactive class\, you&rsquo\;ll learn the stories\, flavor profiles\, and techniques behind three timeless cocktails: the elegant French 75\, the crisp and refreshing Gin Rickey\, and the smooth\, honey-kissed Bee&rsquo\;s Knees. Perfect for cocktail enthusiasts and curious beginners alike\, this class blends hands-on fun with classic cocktail culture in a relaxed\, social setting. Tickets include: ?? Three(3) cocktails ?? Light bites &amp\; snacks ?? Take home recipe cards __ Class is open to adults 21 years of age or older. Proper ID is required at door. We look forward to seeing you. Part of Ocean&#39\;s Spring into Summer Programming.
LOCATION:Ocean Restaurant\, Cape Arundel Inn & Resort 208 Ocean Avenue Kennebunkport\, ME 04046
UID:e.1923.38946
SEQUENCE:3
DTSTAMP:20260421T220720Z
URL:https://chamber.gokennebunks.com/events/details/provision-mixology-at-ocean-38946
END:VEVENT

END:VCALENDAR
