BEGIN:VCALENDAR
VERSION:2.0
PRODID:-//ChamberMaster//Event Calendar 2.0//EN
METHOD:PUBLISH
X-PUBLISHED-TTL:P3D
REFRESH-INTERVAL:P3D
CALSCALE:GREGORIAN
BEGIN:VEVENT
DTSTART:20240821T230000Z
DTEND:20240822T010000Z
X-MICROSOFT-CDO-ALLDAYEVENT:FALSE
SUMMARY:"Proud Tina" Tribute to Tina Turner
DESCRIPTION:Experience the electrifying energy of Tina Turner live with this sensational stage production\, "Proud Tina"! Relive the magic of Tina's greatest hits from the '60s\, '70s\, '80s\, and '90s\, as powerful raspy vocals\, high-intensity dance moves\, and a captivating stage presence bring her legacy to life on stage at 7 p.m. Wednesday\, Aug. 21. With a full band\, brass section\, backing vocalists\, and dynamic dancers\, this tribute show is the ultimate celebration of Tina Turner and an unforgettable night out!Dance and sing along to iconic hits that made Tina a music legend: "Simply the Best\," "What's Love Got to Do With It\," "River Deep Mountain High\," "Proud Mary\," "Nutbush City Limits\," "We Don't Need Another Hero\," "What You Get is What You See\," "Private Dancer\," and many more. This is more than a concert\; it's an exhilarating journey through the phenomenal career of the Queen of Rock 'n' Roll. This show is produced by the same folks who brought our sold-out Whitney Houston tribute show to SPAC in January 2024. "Proud Tina" is not associated with the estate of Tina Turner.
X-ALT-DESC;FMTTYPE=text/html:Experience the electrifying energy of Tina Turner live with this sensational stage production\, &quot\;Proud Tina&quot\;! Relive the magic of Tina&rsquo\;s greatest hits from the &#39\;60s\, &#39\;70s\, &#39\;80s\, and &#39\;90s\, as powerful raspy vocals\, high-intensity dance moves\, and a captivating stage presence bring her legacy to life on stage at 7 p.m. Wednesday\, Aug. 21. With a full band\, brass section\, backing vocalists\, and dynamic dancers\, this tribute show is the ultimate celebration of Tina Turner and an unforgettable night out!Dance and sing along to iconic hits that made Tina a music legend: &quot\;Simply the Best\,&quot\; &quot\;What&rsquo\;s Love Got to Do With It\,&quot\; &quot\;River Deep Mountain High\,&quot\; &quot\;Proud Mary\,&quot\; &quot\;Nutbush City Limits\,&quot\; &quot\;We Don&rsquo\;t Need Another Hero\,&quot\; &quot\;What You Get is What You See\,&quot\; &quot\;Private Dancer\,&quot\; and many more. This is more than a concert\; it&rsquo\;s an exhilarating journey through the phenomenal career of the Queen of Rock &lsquo\;n&rsquo\; Roll. This show is produced by the same folks who brought our sold-out Whitney Houston tribute show to SPAC in January 2024. &quot\;Proud Tina&quot\; is not associated with the estate of Tina Turner.
LOCATION:Sanford Performing Arts Center
UID:e.1923.29677
SEQUENCE:3
DTSTAMP:20260421T111905Z
URL:https://chamber.gokennebunks.com/events/details/proud-tina-tribute-to-tina-turner-29677
END:VEVENT

END:VCALENDAR
