BEGIN:VCALENDAR
VERSION:2.0
PRODID:-//ChamberMaster//Event Calendar 2.0//EN
METHOD:PUBLISH
X-PUBLISHED-TTL:P3D
REFRESH-INTERVAL:P3D
CALSCALE:GREGORIAN
BEGIN:VEVENT
DTSTART:20240607T220000Z
DTEND:20240608T000000Z
X-MICROSOFT-CDO-ALLDAYEVENT:FALSE
SUMMARY:Pride Pottery Paint Night - Gnome Planter
DESCRIPTION:Pride Pottery Paint Night: Celebrate Diversity and Creativity! \n\nJoin us for a special celebration of Pride Month. In this fun class\, participants will paint their very own pride-themed gnome planters. From rainbow stripes to vibrant patterns\, express yourself through colors that celebrate the beautiful spectrum of love and identity.\n\nNo prior pottery or painting experience is necessary   Instructor\, Dawn Burns will guide you every step of the way. Whether you're a seasoned artist or just looking for a unique way to celebrate Pride Month\, this event is for you!\n\nChoose and plant your succulent and at the end of the evening\, take home your masterpiece. Your finished pieces will be sprayed and ready for you to take home and display.\n\nOne glass of wine is included in the price.
X-ALT-DESC;FMTTYPE=text/html:<p>Pride Pottery Paint Night: Celebrate Diversity and Creativity!&nbsp\;</p>\n\n<p>Join us for a special celebration of Pride Month. In this fun class\, participants will paint their very own pride-themed gnome planters. From rainbow stripes to vibrant patterns\, express yourself through colors that celebrate the beautiful spectrum of love and identity.</p>\n\n<p>No prior pottery or painting experience is necessary &mdash\; Instructor\, Dawn Burns will guide you every step of the way. Whether you&#39\;re a seasoned artist or just looking for a unique way to celebrate Pride Month\, this event is for you!</p>\n\n<p>Choose and plant your succulent and at the end of the evening\, take home your masterpiece. Your finished pieces will be sprayed and ready for you to take home and display.</p>\n\n<p>One glass of wine is included in the price.</p>\n\n<p>&nbsp\;</p>\n
LOCATION:The Creative Soul 2 Christensen Lane Kennebunk\, ME
UID:e.1923.25299
SEQUENCE:3
DTSTAMP:20260421T140124Z
URL:https://chamber.gokennebunks.com/events/details/pride-pottery-paint-night-gnome-planter-25299
END:VEVENT

END:VCALENDAR
