BEGIN:VCALENDAR
VERSION:2.0
PRODID:-//ChamberMaster//Event Calendar 2.0//EN
METHOD:PUBLISH
X-PUBLISHED-TTL:P3D
REFRESH-INTERVAL:P3D
CALSCALE:GREGORIAN
BEGIN:VEVENT
DTSTART:20230602T233000Z
DTEND:20230603T013000Z
X-MICROSOFT-CDO-ALLDAYEVENT:FALSE
SUMMARY:Pride Concert
DESCRIPTION:The concert will highlight performances by your favorite LGBTQ+ and ally performers with a concert featuring music from both musical theater and pop. Listen for music from LGBTQ+ icons like George Michael and Lady Gaga\, as well as songs from RENT\, Kinky Boots\, Falsettos\, La Cage aux Folles\, and more. Tickets for the Pride Concert are $15 per ticket.
X-ALT-DESC;FMTTYPE=text/html:The concert will highlight performances by your favorite LGBTQ+ and ally performers with a concert featuring music from both musical theater and pop. Listen for music from LGBTQ+ icons like George Michael and Lady Gaga\, as well as songs from RENT\, Kinky Boots\, Falsettos\, La Cage aux Folles\, and more. Tickets for the Pride Concert are $15 per ticket.
LOCATION:Biddeford City Theater 205 Main Street Biddeford\, ME
UID:e.1923.19293
SEQUENCE:3
DTSTAMP:20260422T063211Z
URL:https://chamber.gokennebunks.com/events/details/pride-concert-06-02-2023-19293
END:VEVENT

END:VCALENDAR
