BEGIN:VCALENDAR
VERSION:2.0
PRODID:-//ChamberMaster//Event Calendar 2.0//EN
METHOD:PUBLISH
X-PUBLISHED-TTL:P3D
REFRESH-INTERVAL:P3D
CALSCALE:GREGORIAN
BEGIN:VEVENT
DTSTART:20231130T230000Z
DTEND:20231201T020000Z
X-MICROSOFT-CDO-ALLDAYEVENT:FALSE
SUMMARY:Prelude Wine Dinner at The Nonantum Resort
DESCRIPTION:Prelude 5- Course Wine Dinner at The Nonantum Resort\n\nat The Nonantum Resort\, 95 Ocean Ave\, Kennebunkport\, Maine\n\nThursday\, November 30\, 6pm-9pm\n\nIndulge in an unforgettable evening of culinary excellence and exquisite wines at our exclusive Prelude 5-course Wine Dinner. Hear from Maine native and Merriam Vineyard Proprietor\, Peter Merriam about wine making while you enjoy a delightful 5-course\, perfectly paired meal.\n\n-------------------------------------------------------------------------------------------\n\n* patrons must be 21 years of age or older to attend the event.
X-ALT-DESC;FMTTYPE=text/html:<h2><strong>Prelude 5- Course Wine Dinner at The Nonantum Resort</strong></h2>\n\n<p>at The Nonantum Resort\, 95 Ocean Ave\, Kennebunkport\, Maine</p>\n\n<p>Thursday\, November 30\, 6pm-9pm</p>\n\n<p>Indulge in an unforgettable evening of culinary excellence and exquisite wines at our exclusive Prelude 5-course Wine Dinner. Hear from Maine native and Merriam Vineyard Proprietor\, Peter Merriam about wine making while you enjoy a delightful 5-course\, perfectly paired meal.<br />\n-------------------------------------------------------------------------------------------<br />\n* patrons must be 21 years of age or older to attend the event.</p>\n\n<p><br />\n&nbsp\;</p>\n
LOCATION:The Nonantum Resort\, 95 Ocean Ave\, Kennebunkport\, Maine
UID:e.1923.23099
SEQUENCE:3
DTSTAMP:20260422T005139Z
URL:https://chamber.gokennebunks.com/events/details/prelude-wine-dinner-at-the-nonantum-resort-23099
END:VEVENT

END:VCALENDAR
