BEGIN:VCALENDAR
VERSION:2.0
PRODID:-//ChamberMaster//Event Calendar 2.0//EN
METHOD:PUBLISH
X-PUBLISHED-TTL:P3D
REFRESH-INTERVAL:P3D
CALSCALE:GREGORIAN
BEGIN:VEVENT
DTSTART:20251208T114500Z
DTEND:20251208T124500Z
X-MICROSOFT-CDO-ALLDAYEVENT:FALSE
SUMMARY:prelude: sunrise holiday flow
DESCRIPTION:Sweat + Flow at The Nonantum Resort\n\n?? The Nonantum Resort\, Kennebunkport\n\n?? Wednesday\, December 8\, 2025\n\n?? 6:45 AM   7:45 AM\n\nStart your Prelude day with intention\, energy and holiday music. Join The Daily Sweat for a special Sweat + Flow class set against the cozy charm of The Nonantum Resort. This one-hour session blends invigorating movement with mindful flow designed to get your heart pumping\, muscles firing\, and mind centered before the holiday magic begins.\n\n\n\nWhether you're a local or visiting for Kennebunkport's Christmas Prelude\, this class is the perfect way to ground yourself amidst the festivities. Expect a dynamic vinyasa-inspired flow\, accessible to all levels.\n\n\n\nBring a mat\, water\, and your festive spirit. We'll take care of the rest. ?\n\n\n\nsign up for class here: https://www.thedailysweatkennebunk.com/book-a-class
X-ALT-DESC;FMTTYPE=text/html:Sweat + Flow at The Nonantum Resort<br />\n?? The Nonantum Resort\, Kennebunkport<br />\n?? Wednesday\, December 8\, 2025<br />\n?? 6:45 AM &ndash\; 7:45 AM<br />\nStart your Prelude day with intention\, energy and holiday music. Join The Daily Sweat for a special Sweat + Flow class set against the cozy charm of The Nonantum Resort. This one-hour session blends invigorating movement with mindful flow designed to get your heart pumping\, muscles firing\, and mind centered before the holiday magic begins.<br />\n<br />\nWhether you&#39\;re a local or visiting for Kennebunkport&rsquo\;s Christmas Prelude\, this class is the perfect way to ground yourself amidst the festivities. Expect a dynamic vinyasa-inspired flow\, accessible to all levels.<br />\n<br />\nBring a mat\, water\, and your festive spirit. We&rsquo\;ll take care of the rest. ?<br />\n<br />\nsign up for class here: https://www.thedailysweatkennebunk.com/book-a-class
LOCATION:95 Ocean Ave\, Kennebunkport\, ME\, 04046
UID:e.1923.38148
SEQUENCE:3
DTSTAMP:20260421T180534Z
URL:https://chamber.gokennebunks.com/events/details/prelude-sunrise-holiday-flow-38148
END:VEVENT

END:VCALENDAR
