BEGIN:VCALENDAR
VERSION:2.0
PRODID:-//ChamberMaster//Event Calendar 2.0//EN
METHOD:PUBLISH
X-PUBLISHED-TTL:P3D
REFRESH-INTERVAL:P3D
CALSCALE:GREGORIAN
BEGIN:VEVENT
DTSTART:20231202T160000Z
DTEND:20231202T190000Z
X-MICROSOFT-CDO-ALLDAYEVENT:FALSE
SUMMARY:Prelude Luncheon at The Nonantum Resort
DESCRIPTION:Prelude Luncheon at The Nonantum Resort\n\nat The Nonantum Resort\, 95 Ocean Ave\, Kennebunkport\, Maine\n\nSaturday\, December 2\, 11am-2pm\n\nMidday merriment abounds at our annual Prelude Luncheon. We welcome you to join us for a delicious meal accompanied by live entertainment provided by Cover Stories from 12pm-2pm. With free onsite parking\, this event is a lovely way to enjoy a pause from the hustle and bustle of Dock Square. We can't wait to see you.\n\n\n\nCost: A La Carte\n\n\n\nReservations are suggested and can be made via Open Table
X-ALT-DESC;FMTTYPE=text/html:<h2><strong>Prelude Luncheon at The Nonantum Resort</strong></h2>\n\n<p>at The Nonantum Resort\, 95 Ocean Ave\, Kennebunkport\, Maine</p>\n\n<p>Saturday\, December 2\, 11am-2pm</p>\n\n<p>Midday merriment abounds at our annual Prelude Luncheon. We welcome you to join us for a delicious meal accompanied by live entertainment provided by Cover Stories from 12pm-2pm. With free onsite parking\, this event is a lovely way to enjoy a pause from the hustle and bustle of Dock Square. We can&rsquo\;t wait to see you.<br />\n<br />\nCost: A La Carte<br />\n<br />\nReservations are suggested and can be made via Open Table</p>\n\n<p><br />\n&nbsp\;</p>\n
LOCATION:The Nonantum Resort\, 95 Ocean Ave\, Kennebunkport\, Maine
UID:e.1923.23124
SEQUENCE:3
DTSTAMP:20260421T234040Z
URL:https://chamber.gokennebunks.com/events/details/prelude-lunch-at-the-nonantum-resort-23124
END:VEVENT

END:VCALENDAR
