BEGIN:VCALENDAR
VERSION:2.0
PRODID:-//ChamberMaster//Event Calendar 2.0//EN
METHOD:PUBLISH
X-PUBLISHED-TTL:P3D
REFRESH-INTERVAL:P3D
CALSCALE:GREGORIAN
BEGIN:VEVENT
DTSTART:20231201T220000Z
DTEND:20231202T020000Z
X-MICROSOFT-CDO-ALLDAYEVENT:FALSE
SUMMARY:Prelude Kick Off Dinner at The Nonantum Resort
DESCRIPTION:Prelude Kick Off Dinner at The Nonantum Resort\n\nat The Nonantum Resort\, 95 Ocean Ave\, Kennebunkport\, Maine\n\nFriday\, December 1\, 5-9pm\n\nJoin us for a celebratory dinner to kick off the 42nd Annual Christmas Prelude with a bang. Our Executive Chef has curated a culinary experience to match the magic of the season. Live entertainment will round out the event. This is a perfect pairing to the Prelude events happening around town\; this dinner is one not to be missed!\n\n\n\nCost: $75/per person\; $25/children 12 and under\n\n\n\nReservations are required\, and can be made via OpenTable
X-ALT-DESC;FMTTYPE=text/html:<h2><strong>Prelude Kick Off Dinner at The Nonantum Resort</strong></h2>\n\n<p>at The Nonantum Resort\, 95 Ocean Ave\, Kennebunkport\, Maine</p>\n\n<p>Friday\, December 1\, 5-9pm</p>\n\n<p>Join us for a celebratory dinner to kick off the 42nd Annual Christmas Prelude with a bang. Our Executive Chef has curated a culinary experience to match the magic of the season. Live entertainment will round out the event. This is a perfect pairing to the Prelude events happening around town\; this dinner is one not to be missed!<br />\n<br />\nCost: $75/per person\; $25/children 12 and under<br />\n<br />\nReservations are required\, and can be made via OpenTable</p>\n\n<p><br />\n&nbsp\;</p>\n
LOCATION:The Nonantum Resort\, 95 Ocean Ave\, Kennebunkport\, Maine
UID:e.1923.23123
SEQUENCE:3
DTSTAMP:20260421T221327Z
URL:https://chamber.gokennebunks.com/events/details/prelude-kick-off-dinner-at-the-nonantum-resort-23123
END:VEVENT

END:VCALENDAR
