BEGIN:VCALENDAR
VERSION:2.0
PRODID:-//ChamberMaster//Event Calendar 2.0//EN
METHOD:PUBLISH
X-PUBLISHED-TTL:P3D
REFRESH-INTERVAL:P3D
CALSCALE:GREGORIAN
BEGIN:VEVENT
DTSTART:20231205T223000Z
DTEND:20231206T000000Z
X-MICROSOFT-CDO-ALLDAYEVENT:FALSE
SUMMARY:PRELUDE FAMILY BINGO
DESCRIPTION:Tuesday\, December 5 at 5:30 PM. Prelude Bingo. Come and join us in the Community Room for a fun Family Bingo Night with friends. You can win fabulous prizes for each game. The Louis T. Graves Memorial Public Library is located at 18 Maine Street\, Kennebunkport. For further information\, please call 967-2778 or visit our website at www.graveslibrary.org.
X-ALT-DESC;FMTTYPE=text/html:<span style="font-family:arial\,sans-serif">Tuesday\, December 5 at 5:30 PM. <strong>Prelude Bingo</strong>. Come and join us in the Community Room for a fun Family Bingo Night with friends. You can win fabulous prizes for each game. The Louis T. Graves Memorial Public Library is located at 18 Maine Street\, Kennebunkport. For further information\, please call 967-2778 or visit our website at </span><a href="http://www.graveslibrary.org/"><span style="color:windowtext"><span style="font-family:arial\,sans-serif">www.graveslibrary.org</span></span></a><span style="font-family:arial\,sans-serif">.</span>
LOCATION:The Louis T. Graves Memorial Public Library is located at 18 Maine Street\, Kennebunkport.
UID:e.1923.23140
SEQUENCE:3
DTSTAMP:20260421T220854Z
URL:https://chamber.gokennebunks.com/events/details/prelude-family-bingo-23140
END:VEVENT

END:VCALENDAR
