BEGIN:VCALENDAR
VERSION:2.0
PRODID:-//ChamberMaster//Event Calendar 2.0//EN
METHOD:PUBLISH
X-PUBLISHED-TTL:P3D
REFRESH-INTERVAL:P3D
CALSCALE:GREGORIAN
BEGIN:VEVENT
DTSTART:20231125T150000Z
DTEND:20231125T200000Z
X-MICROSOFT-CDO-ALLDAYEVENT:FALSE
SUMMARY:Pre Prelude Sale KNITHAPPENS by Kathy
DESCRIPTION:Get a-HEAD of your holiday shopping with hand made knitted apparel made right here in Kennebunk. \n\nKNIT HAPPENS by Kathy is  back this year with those fun\, funky hats that showed  up on heads all over the Kennebunks.  New custom holiday designs available including the Grinch Collection\, Louie the Lobster\, Tree Hats and more.
X-ALT-DESC;FMTTYPE=text/html:<span style="font-family:verdana"><span style="font-size:16px">Get a-HEAD of your holiday shopping with hand made knitted apparel made right here in Kennebunk.&nbsp\;</span><br />\n<span style="color:rgb(48\, 48\, 48)\; font-size:18px">KNIT HAPPENS by Kathy is &nbsp\;back this year with&nbsp\;those fun\, funky hats&nbsp\;that showed &nbsp\;up on heads all over the Kennebunks. &nbsp\;New custom holiday designs available including the Grinch Collection\, Louie the Lobster\, Tree Hats and more. &nbsp\;</span></span>
LOCATION:142 Western Ave Kennebunk\, ME
UID:e.1923.23152
SEQUENCE:3
DTSTAMP:20260421T233113Z
URL:https://chamber.gokennebunks.com/events/details/pre-prelude-sale-knithappem-ns-by-kathy-23152
END:VEVENT

END:VCALENDAR
