BEGIN:VCALENDAR
VERSION:2.0
PRODID:-//ChamberMaster//Event Calendar 2.0//EN
METHOD:PUBLISH
X-PUBLISHED-TTL:P3D
REFRESH-INTERVAL:P3D
CALSCALE:GREGORIAN
BEGIN:VEVENT
DTSTART:20260516T180000Z
DTEND:20260516T200000Z
X-MICROSOFT-CDO-ALLDAYEVENT:FALSE
SUMMARY:Pottery Painting - Rainboot Vase & Bouquet @Springvale Social Club
DESCRIPTION:Join us at the Springvale Social Club and get into the spirit of spring by painting your very own rain boot vase! \n\nThis fun and creative class is the perfect way to welcome the season. No experience needed all materials are provided.\n\nOnce you've finished painting\, your piece will be sealed with a glossy glaze and ready to take home that same evening no kiln firing required!\n\nTo complete your project\, you'll also get to choose from a variety of faux flowers to create your own custom spring bouquet.\n\nCash bar will be open.\n\nJoin us at the Springvale Social Club and get into the spirit of spring by painting your very own rain boot vase! \n\nThis fun and creative class is the perfect way to welcome the season. No experience needed all materials are provided.\n\nOnce you've finished painting\, your piece will be sealed with a glossy glaze and ready to take home that same evening no kiln firing required!\n\nTo complete your project\, you'll also get to choose from a variety of faux flowers to create your own custom spring bouquet.\n\nCash bar will be open.
X-ALT-DESC;FMTTYPE=text/html:<p><strong>Join us at the Springvale Social Club and get into the spirit of spring by painting your very own rain boot vase!&nbsp\;</strong><br />\nThis fun and creative class is the perfect way to welcome the season. No experience needed&mdash\;all materials are provided.</p>\n\n<p>Once you&rsquo\;ve finished painting\, your piece will be sealed with a glossy glaze and ready to take home that same evening&mdash\;no kiln firing required!</p>\n\n<p>To complete your project\, you&rsquo\;ll also get to choose from a variety of faux flowers to create your own custom spring bouquet.</p>\n\n<p><strong>Cash bar will be open.</strong></p>\n\n<p><strong>Join us at the Springvale Social Club and get into the spirit of spring by painting your very own rain boot vase!&nbsp\;</strong><br />\nThis fun and creative class is the perfect way to welcome the season. No experience needed&mdash\;all materials are provided.</p>\n\n<p>Once you&rsquo\;ve finished painting\, your piece will be sealed with a glossy glaze and ready to take home that same evening&mdash\;no kiln firing required!</p>\n\n<p>To complete your project\, you&rsquo\;ll also get to choose from a variety of faux flowers to create your own custom spring bouquet.</p>\n\n<p><strong>Cash bar will be open.</strong></p>\n
LOCATION:Springvale Social Club 22 Bridge St Springvale\, ME
UID:e.1923.39036
SEQUENCE:3
DTSTAMP:20260421T231707Z
URL:https://chamber.gokennebunks.com/events/details/pottery-painting-rainboot-vase-bouquet-springvale-social-club-5-16-26-39036
END:VEVENT

END:VCALENDAR
