BEGIN:VCALENDAR
VERSION:2.0
PRODID:-//ChamberMaster//Event Calendar 2.0//EN
METHOD:PUBLISH
X-PUBLISHED-TTL:P3D
REFRESH-INTERVAL:P3D
CALSCALE:GREGORIAN
BEGIN:VEVENT
DTSTART:20171111T200000Z
DTEND:20171111T210000Z
X-MICROSOFT-CDO-ALLDAYEVENT:FALSE
SUMMARY:Portland Trumpet Ensemble Veterans' Day Concert
DESCRIPTION:The Portland Trumpet Ensemble presents a concert Saturday\, November 11 at 3 p.m. at  historic Christ Church at 6 Dane Street in Kennebunk\, Maine.  \n\n\n\nThe Portland Trumpet Ensemble was founded in January\, 2016 and features eight of the finest trumpeters in Southern Maine.  Members have performed with the Portland\, Bangor and Mid-Coast Symphony Orchestras\, Reading (PA) and Harrisburg (PA) Symphony Orchestras\, Philadelphia Brass Quintet\, Mainstreet Brass Quintet\, Casco Bay Wind Symphony\, 207 Wind Ensemble and many other fine musical organizations throughout Maine and the Northeast.  \n\n\n\nThis concert will feature exciting new works for trumpet ensemble\, including "Infinite Ascent" by Eric Morales\, and plenty of our own unique arrangements including Baroque trumpet voluntaries and standards such as "America the Beautiful\," " Danny Boy\," and "Bugler's Holiday."\n\n\n\nPortland Trumpet Ensemble members include:  Alan Kaschub\, Catriona Shepherd\, Thomas Kremser\, Sarah Sukeforth\, Marty Naas\, Trevor Lavenbein\, Timothy Kenlan and Dan Laciano\n\n\n\nThis concert is open to all\, with tickets available at the door.  Suggested donation for the concert is $15\, or $10 for seniors and students\, or what one can give.  It is our honor to admit Veterans at no charge.  Children under 12 years old are welcome at no charge as well.  Proceeds will benefit the many missions of Christ Church.  The church cannot accept credit cards\, so please bring cash or checks for admission.\n\n\n\nThe building is entirely handicap-accessible from the parking lot behind Town Hall\, and also has a parking lot across Dane Street.  For more information\, please visit our website www.christchurchkennebunk.org\, email christchurchkbk@gmail.com\, or call or visit the office at 6 Dane Street Monday\, Tuesday\, Wednesday or Friday\, 9:30 am to 2:30 pm. 985-4494.
X-ALT-DESC;FMTTYPE=text/html:<strong><span style="font-family:times new roman\,serif"><span style="font-size:12.0pt">The Portland Trumpet Ensemble</span></span></strong><span style="font-family:times new roman\,serif"><span style="font-size:12.0pt"> presents a concert <strong>Saturday\, November 11 </strong>at <strong>3&nbsp\;p.m.</strong> at&nbsp\; historic <strong>Christ Church </strong>at 6 Dane Street in Kennebunk\, Maine.&nbsp\; </span></span><br />\n<br />\n<span style="font-family:times new roman\,serif"><span style="font-size:12.0pt">The <strong>Portland Trumpet Ensemble</strong> was founded in January\, 2016 and features eight of the finest trumpeters in Southern Maine.&nbsp\; Members have performed with the Portland\, Bangor and Mid-Coast Symphony Orchestras\, Reading (PA) and Harrisburg (PA) Symphony Orchestras\, Philadelphia Brass Quintet\, Mainstreet Brass Quintet\, Casco Bay Wind Symphony\, 207 Wind Ensemble and many other fine musical organizations throughout Maine and the Northeast.&nbsp\; </span></span><br />\n<br />\n<span style="font-family:times new roman\,serif"><span style="font-size:12.0pt">This concert will feature exciting new works for trumpet ensemble\, including &ldquo\;Infinite Ascent&rdquo\; by Eric Morales\, and plenty of our own unique arrangements including Baroque trumpet voluntaries and standards such as &ldquo\;America the Beautiful\,&rdquo\; &ldquo\; Danny Boy\,&rdquo\; and &ldquo\;Bugler&rsquo\;s Holiday.&rdquo\;</span></span><br />\n<br />\n<strong><span style="font-family:times new roman\,serif"><span style="font-size:12.0pt">Portland Trumpet Ensemble</span></span></strong><span style="font-family:times new roman\,serif"><span style="font-size:12.0pt"> members include:&nbsp\; Alan Kaschub\, Catriona Shepherd\, Thomas Kremser\, Sarah Sukeforth\, Marty Naas\, Trevor Lavenbein\, Timothy Kenlan and Dan Laciano</span></span><br />\n<br />\n<span style="font-family:times new roman\,serif"><span style="font-size:12.0pt">This concert is open to all\, with tickets available at the door. &nbsp\;<span style="color:black">Suggested donation for the concert is $15\, or $10 for seniors and students\, or what one can give.&nbsp\; It is our honor to admit <strong>Veterans</strong>&nbsp\;at no charge.&nbsp\; Children under 12 years old are welcome at no charge as well.&nbsp\; Proceeds will benefit the many missions of Christ Church.&nbsp\; The church cannot accept credit cards\, so please bring cash or checks for admission.</span></span></span><br />\n<br />\n<span style="font-family:times new roman\,serif"><span style="font-size:12.0pt">The building is entirely handicap-accessible from the parking lot behind Town Hall\, and also has a parking lot across Dane Street.&nbsp\; For more information\, please visit our website </span></span><a href="http://www.christchurchkennebunk.org/"><span style="font-family:times new roman\,serif"><span style="font-size:12.0pt">www.christchurchkennebunk.org</span></span></a><span style="font-family:times new roman\,serif"><span style="font-size:12.0pt">\, email christchurchkbk@gmail.com\, or call or visit the office at 6 Dane Street Monday\, Tuesday\, Wednesday or Friday\, 9:30 am to 2:30 pm. 985-4494.</span></span>
LOCATION:6 Dane Street Kennebunk\, ME Christ Church (behind the Brick Store Museum)
UID:e.1923.4743
SEQUENCE:3
DTSTAMP:20260424T112810Z
URL:https://chamber.gokennebunks.com/events/details/portland-trumpet-ensemble-concert-4743
END:VEVENT

END:VCALENDAR
