BEGIN:VCALENDAR
VERSION:2.0
PRODID:-//ChamberMaster//Event Calendar 2.0//EN
METHOD:PUBLISH
X-PUBLISHED-TTL:P3D
REFRESH-INTERVAL:P3D
CALSCALE:GREGORIAN
BEGIN:VEVENT
DTSTART:20231209T190000Z
DTEND:20231209T210000Z
X-MICROSOFT-CDO-ALLDAYEVENT:FALSE
SUMMARY:Portland Ballet's A Victorian Nutcracker
DESCRIPTION:2 and 7 p.m. Saturday\, Dec. 9. \n\nFollowing two triumphant years on the SPAC stage\, Portland Ballet is back with the cherished holiday favorite\, "A Victorian Nutcracker." Suitable for all ages\, this enchanting performance brings to life the timeless tale of a young girl's dream on Christmas Eve\, ignited by the magical gift of a mysterious nutcracker. Whether you've seen it once or many times\, "A Victorian Nutcracker" is an experience that never loses its enchantment. Set to Tchaikovsky's immortal score\, this production weaves in characters from Portland's history. Witness delightful clashes between toy soldiers and the Mouse King's army\, journey through the Land of Sweets\, and encounter the Sugar Plum Fairy. $39-$51
X-ALT-DESC;FMTTYPE=text/html:<p><strong>2 and 7 p.m. Saturday\, Dec. 9.&nbsp\;</strong></p>\n\n<p><span style="background-color:transparent\; color:rgb(0\, 0\, 0)\; font-family:trebuchet ms\,sans-serif\; font-size:11pt">Following two triumphant years on the SPAC stage\, Portland Ballet is back with the cherished holiday favorite\, &ldquo\;A Victorian Nutcracker.&rdquo\; Suitable for all ages\, this enchanting performance brings to life the timeless tale of a young girl&rsquo\;s dream on Christmas Eve\, ignited by the magical gift of a mysterious nutcracker. Whether you&rsquo\;ve seen it once or many times\, &ldquo\;A Victorian Nutcracker&rdquo\; is an experience that never loses its enchantment. Set to Tchaikovsky&rsquo\;s immortal score\, this production weaves in characters from Portland&rsquo\;s history. Witness delightful clashes between toy soldiers and the Mouse King&rsquo\;s army\, journey through the Land of Sweets\, and encounter the Sugar Plum Fairy. $39-$51</span></p>\n
LOCATION:Sanford Performing Arts Center\, 100 Alumni Blvd.\, Sanford
UID:e.1923.22526
SEQUENCE:3
DTSTAMP:20260421T220757Z
URL:https://chamber.gokennebunks.com/events/details/portland-ballet-s-a-victorian-nutcracker-22526
END:VEVENT

END:VCALENDAR
