BEGIN:VCALENDAR
VERSION:2.0
PRODID:-//ChamberMaster//Event Calendar 2.0//EN
METHOD:PUBLISH
X-PUBLISHED-TTL:P3D
REFRESH-INTERVAL:P3D
CALSCALE:GREGORIAN
BEGIN:VEVENT
DTSTART:20241207T170000Z
DTEND:20241207T220000Z
X-MICROSOFT-CDO-ALLDAYEVENT:FALSE
SUMMARY:Port City Makerspace WINTER MARKET
DESCRIPTION:Join our Winter Market with 30+ local artisans and food trucks Clyde's Cupcakes and Mr. Sippy's BBQ Wend your way among the tables located in the spruced up shop areas to view and purchase handmade wares to include metal sculptures\; leather goods\; picture frames\; nutcrackers\; embroidered patches\; cutting boards\; wooden bowls\; tote bags\; hand and bath towels\; stickers\; magnets\; ornaments\; ceramics\; pottery\; jewelry\; art prints and a few serendipitous surprises! There will be additional parking at 1 Cate Drive\, the building behind "Motorbikes Plus"
X-ALT-DESC;FMTTYPE=text/html:Join our Winter Market with 30+ local artisans and food trucks Clyde&#39\;s Cupcakes and Mr. Sippy&#39\;s BBQ Wend your way among the tables located in the spruced up shop areas to view and purchase handmade wares to include metal sculptures\; leather goods\; picture frames\; nutcrackers\; embroidered patches\; cutting boards\; wooden bowls\; tote bags\; hand and bath towels\; stickers\; magnets\; ornaments\; ceramics\; pottery\; jewelry\; art prints and a few serendipitous surprises! There will be additional parking at 1 Cate Drive\, the building behind &quot\;Motorbikes Plus&quot\;
LOCATION:68 Morning Street Portsmouth NH 03801
UID:e.1923.31156
SEQUENCE:3
DTSTAMP:20260421T032557Z
URL:https://chamber.gokennebunks.com/events/details/port-city-makerspace-winter-market-31156
END:VEVENT

END:VCALENDAR
