BEGIN:VCALENDAR
VERSION:2.0
PRODID:-//ChamberMaster//Event Calendar 2.0//EN
METHOD:PUBLISH
X-PUBLISHED-TTL:P3D
REFRESH-INTERVAL:P3D
CALSCALE:GREGORIAN
BEGIN:VEVENT
DTSTART:20250601T160000Z
DTEND:20250601T200000Z
X-MICROSOFT-CDO-ALLDAYEVENT:FALSE
SUMMARY:Popup Market on the Farm
DESCRIPTION:Enjoy a lovely stroll through our first market of the season!  The farm store and seedling sale will also be open.  Rain or shine!\n\nLunch vendors:\n\n\n	Niyat Catering (Ethiopian cuisine)\n	Sleazy Vegan\n\n\nFood vendors:\n\n\n	Midcoast Vegan\n	Planted.\n	Grounded Confections\n	Snagglebites Soft Serve\n\n\nMakers\n\n\n	Luci's Lather\n	Sweet Fern\n	Seaglass & Clay\n	Mainely Makers\n	Evolving Light\n	Catmint Crafts\n\n\nDoers\n\n\n	Rochelle Trudo Massage\n	Four Legged Freedom Rescue
X-ALT-DESC;FMTTYPE=text/html:<p>Enjoy a lovely stroll through our first market of the season!&nbsp\; The farm store and seedling sale will also be open.&nbsp\; Rain or shine!</p>\n\n<p>Lunch vendors:</p>\n\n<ul>\n	<li>Niyat Catering (Ethiopian cuisine)</li>\n	<li>Sleazy Vegan</li>\n</ul>\n\n<p>Food vendors:</p>\n\n<ul>\n	<li>Midcoast Vegan</li>\n	<li>Planted.</li>\n	<li>Grounded Confections</li>\n	<li>Snagglebites Soft Serve</li>\n</ul>\n\n<p>Makers</p>\n\n<ul>\n	<li>Luci&#39\;s Lather</li>\n	<li>Sweet Fern</li>\n	<li>Seaglass &amp\; Clay</li>\n	<li>Mainely Makers</li>\n	<li>Evolving Light</li>\n	<li>Catmint Crafts</li>\n</ul>\n\n<p>Doers</p>\n\n<ul>\n	<li>Rochelle Trudo Massage</li>\n	<li>Four Legged Freedom Rescue</li>\n</ul>\n
LOCATION:Frinklepod Farm 244 Log Cabin Road\, Arundel
UID:e.1923.34949
SEQUENCE:3
DTSTAMP:20260421T062306Z
URL:https://chamber.gokennebunks.com/events/details/popup-market-on-the-farm-34949
END:VEVENT

END:VCALENDAR
