BEGIN:VCALENDAR
VERSION:2.0
PRODID:-//ChamberMaster//Event Calendar 2.0//EN
METHOD:PUBLISH
X-PUBLISHED-TTL:P3D
REFRESH-INTERVAL:P3D
CALSCALE:GREGORIAN
BEGIN:VEVENT
DTSTART:20260423T210000Z
DTEND:20260423T230000Z
X-MICROSOFT-CDO-ALLDAYEVENT:FALSE
SUMMARY:Pop Up Party at Above & Beyond Catering
DESCRIPTION:Come on over and join us for a pop up party at Above & Beyond Catering with co-host the Sanford Springvale Chamber of Commerce! \n\n\n\nThursday\, April 23rd from 5-7pm.\n\n\n\nSpend the evening at the beautiful new event hall\, The Ridge! There will be amazing food and drinks.
X-ALT-DESC;FMTTYPE=text/html:<span style="font-size:18px\;"><span style="font-size:20px\;"><strong>Come on over and join us for a pop up party at Above &amp\; Beyond Catering with co-host the Sanford Springvale Chamber of Commerce!&nbsp\;</strong></span><br />\n<br />\n<strong>Thursday\,&nbsp\;April 23rd from 5-7pm.</strong><br />\n<br />\nSpend the evening at the beautiful new event hall\, The Ridge! There will be amazing food and drinks.&nbsp\;</span>
LOCATION:49 Shaws Ridge Road\, Sanford
UID:e.1923.38963
SEQUENCE:3
DTSTAMP:20260421T220839Z
URL:https://chamber.gokennebunks.com/events/details/pop-up-party-at-above-beyond-catering-38963
END:VEVENT

END:VCALENDAR
