BEGIN:VCALENDAR
VERSION:2.0
PRODID:-//ChamberMaster//Event Calendar 2.0//EN
METHOD:PUBLISH
X-PUBLISHED-TTL:P3D
REFRESH-INTERVAL:P3D
CALSCALE:GREGORIAN
BEGIN:VEVENT
DTSTART:20180714T180000Z
DTEND:20180714T193000Z
X-MICROSOFT-CDO-ALLDAYEVENT:FALSE
SUMMARY:Pop-Up Meditation in the Poppy Garden
DESCRIPTION:Khenmo Drolma\, Abbess of Vajra Dakini Nunnery\, will offer a "pop-up meditation" in conjunction with the Museum Poppy Project. Looking back 100 years to World War I can be an occasion to reflect on our precious and short human life. Like the peace declared by the 1918 Armistice\, meditation is a key to peace in our lives. After a talk on impermanence as a source of mental peace\, she will lead walking meditation through the poppy exhibition.
X-ALT-DESC;FMTTYPE=text/html:Khenmo Drolma\, Abbess of Vajra Dakini Nunnery\, will offer a &ldquo\;pop-up meditation&rdquo\; in conjunction with the Museum Poppy Project. Looking back 100 years to World War I can be an occasion to reflect on our precious and short human life. Like the peace declared by the 1918 Armistice\, meditation is a key to peace in our lives. After a talk on impermanence as a source of mental peace\, she will lead walking meditation through the poppy exhibition.
LOCATION:117 Main Street Kennebunk\, Maine 04043
UID:e.1923.9950
SEQUENCE:3
DTSTAMP:20260425T133054Z
URL:https://chamber.gokennebunks.com/events/details/pop-up-meditation-in-the-poppy-garden-9950
END:VEVENT

END:VCALENDAR
