BEGIN:VCALENDAR
VERSION:2.0
PRODID:-//ChamberMaster//Event Calendar 2.0//EN
METHOD:PUBLISH
X-PUBLISHED-TTL:P3D
REFRESH-INTERVAL:P3D
CALSCALE:GREGORIAN
BEGIN:VEVENT
DTSTART:20231206T200000Z
DTEND:20231206T220000Z
X-MICROSOFT-CDO-ALLDAYEVENT:FALSE
SUMMARY:POLAR EXPRESS AFTERNOON
DESCRIPTION:Wednesday\, December 6 at 3 PM. Polar Express Afternoon. Family holiday movie\, wear your jammies\, we'll drink cocoa\, have treats and a favor to take home. The Louis T. Graves Memorial Public Library is located at 18 Maine Street\, Kennebunkport. For further information\, please call 967-2778 or visit our website at www.graveslibrary.org.
X-ALT-DESC;FMTTYPE=text/html:<span style="font-family:arial\,sans-serif">Wednesday\, December 6 at 3 PM. <strong>Polar Express Afternoon</strong>. Family holiday movie\, wear your jammies\, we&rsquo\;ll drink cocoa\, have treats and a favor to take home. The Louis T. Graves Memorial Public Library is located at 18 Maine Street\, Kennebunkport. For further information\, please call 967-2778 or visit our website at www.graveslibrary.org.</span>
LOCATION:The Louis T. Graves Memorial Public Library is located at 18 Maine Street\, Kennebunkport. For further information\, please call 967-2778 or visit our website at www.graveslibrary.org.
UID:e.1923.23141
SEQUENCE:3
DTSTAMP:20260421T220553Z
URL:https://chamber.gokennebunks.com/events/details/polar-express-afternoon-23141
END:VEVENT

END:VCALENDAR
