BEGIN:VCALENDAR
VERSION:2.0
PRODID:-//ChamberMaster//Event Calendar 2.0//EN
METHOD:PUBLISH
X-PUBLISHED-TTL:P3D
REFRESH-INTERVAL:P3D
CALSCALE:GREGORIAN
BEGIN:VEVENT
DTSTART:20240414T213000Z
DTEND:20240414T223000Z
X-MICROSOFT-CDO-ALLDAYEVENT:FALSE
SUMMARY:Poetry Reading + Champagne
DESCRIPTION:"Good poetry is like effective prayer. It feeds the spirit\, it nourishes\, it puts us in touch with forces far greater than ourselves." - Lorna Goodison\n\n\n\nCome restore your mind\, body\, and spirit with this month's special yoga & poetry event.\n\n\n\nAfter our Daily Restore class on Sunday\, April 14\, stay to enjoy an hour of community and poetry. In honor of National Poetry Month\, join Deidre Braley as she shares poems and stories from her debut poetry collection\, "The Shape I Take\," along with a selection of other original poems. Sip a glass of champagne while she takes you through an unflinching look at life\, love\, and learning to make peace with being human and maybe leave inspired to write a little poetry of your own\, too.
X-ALT-DESC;FMTTYPE=text/html:<span style="color:rgb(0\, 0\, 0)\; font-family:arial">&ldquo\;Good poetry is like effective prayer. It feeds the spirit\, it nourishes\, it puts us in touch with forces far greater than ourselves.&rdquo\; - Lorna Goodison<br />\n<br />\nCome restore your mind\, body\, and spirit with this month&rsquo\;s special yoga &amp\; poetry event.<br />\n<br />\nAfter our Daily Restore class on Sunday\, April 14\, stay to enjoy an hour of community and poetry. In honor of National Poetry Month\, join Deidre Braley as she shares poems and stories from her debut poetry collection\, &ldquo\;The Shape I Take\,&rdquo\; along with a selection of other original poems. Sip a glass of champagne while she takes you through an unflinching look at life\, love\, and learning to make peace with being human&mdash\;and maybe leave inspired to write a little poetry of your own\, too. </span>
LOCATION:The Daily Sweat 65 Portland Rd Kennebunk\, ME
UID:e.1923.24489
SEQUENCE:3
DTSTAMP:20260421T163950Z
URL:https://chamber.gokennebunks.com/events/details/poetry-reading-champagne-24489
END:VEVENT

END:VCALENDAR
