BEGIN:VCALENDAR
VERSION:2.0
PRODID:-//ChamberMaster//Event Calendar 2.0//EN
METHOD:PUBLISH
X-PUBLISHED-TTL:P3D
REFRESH-INTERVAL:P3D
CALSCALE:GREGORIAN
BEGIN:VEVENT
DTSTART:20250516T170000Z
DTEND:20250516T183000Z
X-MICROSOFT-CDO-ALLDAYEVENT:FALSE
SUMMARY:Poetry in the Spaulding Center
DESCRIPTION:Celebration of poetry in the Spaulding Center... Host WePoets & Verse with Maine's gifted poets and poet laureates reading from their newest poetry collections featuring Betsy SCHOLL\, Steve LUTTRELL\, AND David SLOAN and local poets.
X-ALT-DESC;FMTTYPE=text/html:Celebration of poetry in the Spaulding Center... Host WePoets &amp\; Verse with Maine&#39\;s gifted poets and poet laureates reading from their newest poetry collections featuring Betsy SCHOLL\, Steve LUTTRELL\, AND David SLOAN and local poets.
LOCATION:175 Port Road\, Kennebunk.
UID:e.1923.34911
SEQUENCE:3
DTSTAMP:20260421T045913Z
URL:https://chamber.gokennebunks.com/events/details/poetry-in-the-spaulding-center-34911
END:VEVENT

END:VCALENDAR
